Workbook

Sheet Over All
A1: Member Number | B1: Member Name | C1: Two Va CVMA® Sanctioned Events | E1: Alternate CVMA® | F1: Campaign Star | K1: Total Miles | L1: Enrolled | M1: Patch | N1: 3,000 Miles | O1: 5,000 Miles | P1: 10,000 Miles | Q1: 15,000 Miles | R1: 20,000 Miles | S1: 25,000 Miles | T1: 30,000 Miles | U1: 35,000 Miles | V1: 40,000 Miles | W1: 45,000 Miles | X1: 50,000 Miles | Y1: 55,000 Miles | Z1: 60000 Miles | AA1: Iron Cheek | AB1: Iron Cheek | AC1: Iron Cheek | AD1: Iron Cheek | AE1: Iron Cheek | AF1: Iron Butt | AG1: Iron Butt
C2: 1 | D2: 2 | E2: 1 | F2: NC | G2: TN | H2: KY | I2: WV | J2: MD
A3: FM-4086 | B3: Joseph "Riot" Kelb | C3: VA 27-3 | K3: =Mileage!CE3 -> 542
A4: FM-7477 | B4: David "Bug" Gregory | E4: National 21 | K4: =Mileage!CE4 -> 6788 | AA4: 44364 | AB4: 44365 | AC4: 44366 | AD4: 44374 | AE4: 44374
A5: FM-7830 | B5: =HYPERLINK("http://www.combatvet.org/members/showMember.asp?LID=9416","Scott ""Big Dawg"" Johnson") -> Scott "Big Dawg" Johnson | C5: VA 27-9 | F5: NC15-4 | J5: MD40-1 | K5: =Mileage!CE5 -> 5807
A6: FM-8480 | B6: =HYPERLINK("http://www.combatvet.org/members/showMember.asp?LID=10224","jeffrey ""Stretch"" scott") -> jeffrey "Stretch" scott | K6: =Mileage!CE6 -> 8564 | L6: 41947 | M6: 41986 | N6: 41986 | O6: 42283
A7: FM-8662 | B7: =HYPERLINK("http://www.combatvet.org/members/showMember.asp?LID=10457","DALE ""Peacemaker"" FATER") -> DALE "Peacemaker" FATER | C7: VA 27-3 | F7: R2R | K7: =Mileage!CE7 -> 27741 | L7: 41947 | M7: 41986 | N7: 41986 | O7: 42283 | P7: 42283 | Q7: 42647 | R7: 43011 | S7: 43813 | AA7: 42546 | AF7: 42283
A8: FM-8939 | B8: =HYPERLINK("http://www.combatvet.org/members/showMember.asp?LID=10801","Michael ""Mr Lezo"" Lilly") -> Michael "Mr Lezo" Lilly | K8: =Mileage!CE8 -> 25
A9: FM-11242 | B9: Chris "Backfire" Witte | K9: =Mileage!CE9 -> 1109
A10: FM-11848 | B10: =HYPERLINK("http://www.combatvet.org/members/showMember.asp?LID=14498","Michael ""Half Trac"" Headrick") -> Michael "Half Trac" Headrick | K10: =Mileage!CE10 -> 7935 | L10: 41860 | M10: 41986 | N10: 43011 | O10: 43449
A11: FM-12809 | B11: Luis "Guanaco" Martinez | C11: VA 27-3 | D11: VA 27 SM | E11: DE SM | F11: NC 15-4 | G11: TN 18-3 | I11: WV 37-2 | J11: MD40-1 | K11: =Mileage!CE11 -> 31267 | L11: 42615 | M11: 42647 | N11: 42647 | O11: 43011 | P11: 43046 | Q11: 43813 | R11: 43813 | S11: 44179 | T11: 44451 | AA11: 44030 | AB11: 44037
A12: FM-13261 | B12: Bo "Hulio" Hutchinson | C12: VA 27-3 | K12: =Mileage!CE12 -> 2177 | AA12: 42933
A13: FM-13429 | B13: Robert "Grom" Moore | C13: VA 27-3 | D13: VA 27-4 | E13: WV 37-4 | F13: NC 15-1 | G13: R2R 21 | I13: RSR 19 | K13: =Mileage!CE13 -> 13325
A14: FM-13625 | B14: Robert "Rally Sport" Sloan | C14: VA 27-3 | D14: VA 27-2 | K14: =Mileage!CE14 -> 5094
A15: FM-13650 | B15: Robert "Nighthawk" Austin II | D15: RSR 21 | E15: KY 1-1 | F15: R2R | G15: TN 18-3 | H15: KY1-1 | I15: WV 37-2 | J15: MD 40-1 | K15: =Mileage!CE15 -> 34159 | L15: 42145 | M15: 42283 | N15: 42283 | O15: 42350 | P15: 42647 | Q15: 43011 | R15: 43449 | S15: 43813 | T15: 44450 | AA15: 42540 | AF15: 42283
A16: FM-13854 | B16: Cameron "Rainman" Harbison | C16: VA 27-3 | D16: VA 27-2 | E16: KY 1-1 | F16: NC 15-5 | G16: TN 18-1 | H16: KY1-1 | I16: R2R | J16: MD 40-2 | K16: =Mileage!CE16 -> 65844 | L16: 42494 | M16: 43011 | N16: 43046 | O16: 43193 | P16: 43375 | Q16: 43449 | R16: 43505 | S16: 43813 | T16: 44079 | U16: 44184 | V16: 44289 | W16: 44335 | X16: 44373 | Y16: 44408 | Z16: 44450 | AA16: 43225 | AB16: 43365 | AC16: 43367 | AD16: 43377 | AE16: 43379
A17: FM-14552 | B17: Joseph "DocLock" Lockerby | C17: VA 27-3 | D17: VA 27-9 | K17: =Mileage!CE17 -> 11461 | L17: 43620 | M17: 43813 | N17: 43813 | O17: 44201 | AA17: 44037
A18: FM-15034 | B18: Sean "Touchy" Feely | D18: RSR 21 | E18: KY 1-1 | G18: R2R 21 | I18: WV 37-2 | K18: =Mileage!CE18 -> 20301 | L18: 42288 | M18: 42647 | N18: 42647 | O18: 42647 | P18: 43011 | Q18: 43449 | AA18: 42540
A19: FM-15813 | B19: Tim "Cajun" Rivet | C19: VA 27-3 | D19: VA 27-1 | E19: R2R 21 | F19: R2R | G19: R2R 21 | K19: =Mileage!CE19 -> 6742 | L19: 43620 | M19: 43813 | N19: 44201 | O19: 44443
A20: FM-16569 | B20: Greg "Bandit" Courtney | C20: VA 27-3 | D20: VA 27-2 | F20: R2R | K20: =Mileage!CE20 -> 10424 | L20: 43364 | M20: 43813 | N20: 43813 | O20: 43813
A21: FM-16738 | B21: Fransisco "Bori" Santana | K21: =Mileage!CE21 -> 75
A22: FM-16939 | B22: Carlos "Undertaker" Roman | C22: VA 27-3 | F22: NC 15-5 | K22: =Mileage!CE22 -> 6370 | L22: 42675 | M22: 43011 | N22: 43011 | O22: 43449 | AA22: 43582
A23: FM-17286 | B23: Arias "Hektor" Hector | K23: =Mileage!CE23 -> 406
A24: FM-18719 | B24: Timothy "Ozark" Brendel JR | C24: VA 27-3 | F24: NC 15-1 | K24: =Mileage!CE24 -> 4446 | L24: 44048 | M24: 44201 | AA24: 44030
A25: FM-18730 | B25: Robert "Striker" Bryson | K25: =Mileage!CE25 -> 406
A26: FM-19078 | B26: Joseph"Pooch"Puccio | K26: =Mileage!CE26 -> 581
A27: FM-19162 | B27: Kenneth "Doc" King | C27: VA 27-3 | D27: VA 27-2 | F27: NC 15-4 | H27: KY1-1 | I27: R2R | K27: =Mileage!CE27 -> 26111 | L27: 42968 | M27: 43046 | N27: 43256 | O27: 43449 | P27: 43813 | Q27: 43813 | R27: 44201 | AA27: 44030
A28: FM-19667 | B28: Sylbert (Bret) "J12" Jackson-Smith | K28: =Mileage!CE28 -> 1297
A29: FM-19776 | B29: Vincent "Streamer" Eberhart | C29: VA 27-3 | K29: =Mileage!CE29 -> 3895
A30: FM-20153 | B30: William "Lone Wolf" Adams | K30: =Mileage!CE30 -> 1931
A31: FM-20643 | B31: Ryan "BDT" Landers | K31: =Mileage!CE31 -> 682
A32: FM-21290 | B32: William "Freeze" Skala | C32: VA 27-3 | E32: FL 20-13 | K32: =Mileage!CE32 -> 3896
A33: FM-22230 | B33: Matthew"Warrior Chief"Anderson | C33: VA 27-3 | D33: VA 27-2 | E33: KY 1-1 | F33: NC 15-4 | G33: R2R 21 | H33: KY1-1 | I33: WV 37-2 | J33: MD 40-1 | K33: =Mileage!CE33 -> 30054 | L33: 44061 | M33: 44201 | N33: 44201 | O33: 44201 | P33: 44331 | Q33: 44373 | R33: 44408 | S33: 44450 | AA33: 44030 | AB33: 44364 | AC33: 44365 | AD33: 44366 | AE33: 44374
A34: FM-22595 | B34: Carol "Psycho" Landers | K34: =Mileage!CE34 -> 496
A35: FM-22999 | B35: Shirlie "Cougar" Anders | K35: =Mileage!CE35 -> 57
A36: FM-23000 | B36: Ramon "Rico" Valezquez | K36: =Mileage!CE36 -> 704
A37: FM-23407 | B37: Jason "Henny" Barksdale | K37: =Mileage!CE37 -> 520
A38: FM-23408 | B38: Justin "Grizzly" Lewis | K38: =Mileage!CE38 -> 484
A39: FM-23500 | B39: Frank "Knuckles" Biondi | C39: VA 27-3 | D39: VA 27-9 | K39: =Mileage!CE39 -> 2583
A40: FM-23639 | B40: Don "DJ" Erhart | K40: =Mileage!CE40 -> 26
...

Sheet Mileage
A1: 2020 | C1: Va CVMA® Sanctioned Events | K1: CVMA® Sanctioned Events | BW1: RWP Year Totals | CE1: Total Miles Logged
A2: Member Name | B2: Member Number | C2: 27-1 "Ride To Remember" | D2: 27-2 Bull Run III | E2: 27-3 Battlefield Bash | F2: 27-4 Blue Ridge Thunder | G2: 27-7 1st Annual Poker Run | H2: 27-8 Poker Run | I2: 27-9 1st Annual Poker Run | J2: VA State Meeting | K2: 21-27 June 2021 CVMA® Nationals | L2: 15-17 Oct 21 Region 2 Regionals | M2: 1 Jan 21 AL 28-2 Brass Nuts Ride (Sanctioned) | N2: 2 Jan 21 Chapter Ride | O2: 16 Jan 21 MD 40-1 Frozen Chrome Ride | P2: 28 Jan 20 CEB | Q2: 30 Jan 21 State CEB Meeting | R2: 6 Feb 21 27-9 Meeting | S2: 25 Feb 20 CEB | T2: 27-7 Meeting 27 Feb 21 | U2: 6 MAR 21 FL 20-13 Bike Week Meet and Greet | V2: 13 MAR 21 FL 20-11 Bobby "Wood" Memorial Ride | W2: 20 Mar 21 NC 15-1 Memorial Ride | X2: 27 Mar 21 SC 34-1 Spring Run (Sanctioned) | Y2: 3 Apr 21 DE 50-1 Veteran Clothing Drive Sanctioned) | Z2: 10 APR 21 Bobby Jo Benefit Ride | AA2: 10 April 21 FL 20-4 Bataan Memorial Ride | AB2: 24 Apr 21 SC 34-4 Annual Veterans Support Ride | AC2: 24 Apr 21 50-1 Veterans Food Drive (Sanctioned) | AD2: 28 Apr 20 CEB | AE2: 1 May 21 PA State Season Kick-off Ride | AF2: 6 May 21 "Stitchmaster" Funeral Escort | AG2: 8 May 21 American Legion Dice Run | AH2: 8 May 21 NC 15-5 13th Annual Benefit Ride Sanctioned) | AI2: 8 May 21 WV 37-4 Memorial Ride | AJ2: 15 May 21 Blue Awareness Poker Run | AK2: 15 May 21 GA 25-6, 5th Annual Dirty Birdie Ride (Sanctioned) | AL2: 15 May 21 Renegades Ride | AM2: 16 May 21 State CEB Meeting | AN2: 22 May TN 18-5 4th Annual "22" Suicide Awareness Run (Sanctioned) | AO2: 22 May 21 Pipe Hitters Poker Run | AP2: 28 May 21 DC 53-1 Rolling Thunder | AQ2: 29 May 21 TN 18-2 Smokey Mountain Thunder | AR2: 26 May 20 CEB | AS2: 5 Jun 20 Sierra Memorial Ride | AT2: 5 June 21 COC Peacemaker | AU2: 26 Jun 21 VT 26-2 Waterfall Ride | AV2: 30 Jun 20 CEB | AW2: 4 Jul 21 Ride to the Tavern on the James | AX2: 10 Jul 21 NC 15-4 5th Annual Vets for Vets | AY2: 10 Jul 21 NH 5-3 (SFC RyanJames Savard Memorial ride | AZ2: 18 July 21 WV 37-3 (Treasure Hunt) | BA2: 31 Jul 21 SC 36-1 State Meeting | BB2: 10 Aug 21 AMT3 Caroline Schollaert Escort | BC2: 14 Aug 21 AMT3 Caroline Schollaert Funeral | BD2: 28 Aug 21 MD 40-2 Annual Poker Run | BE2: 28 Aug 21 Tech for Troops Ride | BF2: 31 Aug 21 CEB Meeting | BG2: 4 Sept 21 KY 1-1 APR | BH2: 4 Sept 21 Hey You Ride Five and Dime | BI2: 11 Sept 21 NC 15-6 Poker Run (Sanctioned) | BJ2: 11 Sept 21 Red Knoghts 911 Ride | BK2: 12 Sept 21 Frazier/Mason ride | BL2: 18 Sept Deleware State Meeting | BM2: 18 Sept 21 Route Recon State Meeting | BN2: 19 Sep 21 Vet Project BigDawg | BO2: 25 Sep21 Ride for Riley | BP2: 28 Sep 21 Funeral escort | BQ2: 29 Sep 21 D Day Memorial Ride | BR2: 2 Oct 21 VFW Revolution Run | BS2: 9 Oct 21 SC 34-4 Island Hopping Campaign | BT2: 11 Nov 21 Veterans Day Ride | BU2: 21 Nov 21 Mobility Works | BV2: 21 Nov 21 NC 1504A SOHO Ride | BW2: 2014 RWP Mileage | BX2: 2015 RWP Mileage | BY2: 2016 RWP Mileage | BZ2: 2017 RWP Mileage | CA2: 2018 RWP Mileage | CB2: 2019 RWP Mileage | CC2: 2020 RWP Mileage | CD2: 2021 RWP Mileage
A3: Joseph "Riot" Kelb | B3: FM-4086 | AT3: 30 | BZ3: =SUM(C3:BI3) -> 30 | CA3: 86 | CB3: 198 | CC3: 198 | CD3: =SUM(C3:BV3) -> 30 | CE3: =SUM(BW3:CD3) -> 542
A4: David "Bug" Gregory | B4: FM-7477 | K4: 5931 | CB4: 599 | CC4: 258 | CD4: =SUM(C4:BV4) -> 5931 | CE4: =SUM(BW4:CD4) -> 6788
A5: =HYPERLINK("http://www.combatvet.org/members/showMember.asp?LID=9416","Scott ""Big Dawg"" Johnson") -> Scott "Big Dawg" Johnson | B5: FM-7830 | I5: 250 | S5: 19 | X5: 845 | Y5: 508 | Z5: 20 | AS5: 90 | BZ5: 26 | CA5: 713 | CB5: 1014 | CC5: 2322 | CD5: =SUM(C5:BV5) -> 1732 | CE5: =SUM(BW5:CD5) -> 5807
A6: =HYPERLINK("http://www.combatvet.org/members/showMember.asp?LID=10224","jeffrey ""Stretch"" Scott") -> jeffrey "Stretch" Scott | B6: FM-8480 | BW6: 4193 | BX6: 3674 | BY6: 141 | BZ6: 72 | CA6: 484 | CB6: 0 | CC6: 0 | CD6: =SUM(C6:BV6) -> 0 | CE6: =SUM(BW6:CD6) -> 8564
A7: DALE "Peacemaker" FATER | B7: FM-8662 | AF7: 155 | BW7: 3046 | BX7: 8469 | BY7: 4370 | BZ7: 5024 | CA7: 2887 | CB7: 2578 | CC7: 1212 | CD7: =SUM(C7:BV7) -> 155 | CE7: =SUM(BW7:CD7) -> 27741
A8: =HYPERLINK("http://www.combatvet.org/members/showMember.asp?LID=10801","Michael ""Mr Lezo"" Lilly") -> Michael "Mr Lezo" Lilly | B8: FM-8939 | CA8: 8 | CB8: 0 | CC8: 17 | CD8: =SUM(C8:BV8) -> 0 | CE8: =SUM(BW8:CD8) -> 25
A9: Chris "Backfire" Witte | B9: FM-11242 | CA9: 570 | CB9: 501 | CC9: 38 | CD9: =SUM(C9:BV9) -> 0 | CE9: =SUM(BW9:CD9) -> 1109
A10: =HYPERLINK("http://www.combatvet.org/members/showMember.asp?LID=14498","Michael ""Half Trac"" Headrick") -> Michael "Half Trac" Headrick | B10: FM-11848 | S10: 32 | AM10: 160 | BT10: 85 | BW10: 1975 | BX10: 326 | BY10: 585 | BZ10: 1674 | CA10: 1214 | CB10: 1480 | CC10: 404 | CD10: =SUM(C10:BV10) -> 277 | CE10: =SUM(BW10:CD10) -> 7935
A11: Luis "Guanaco" Martinez | B11: FM-12809 | D11: 562 | E11: 529 | G11: 468 | J11: 200 | K11: 4936 | AC11: 185 | AZ11: 311 | BC11: 360 | BK11: 412 | BL11: 215 | BY11: 4655 | BZ11: 5952 | CA11: 3022 | CB11: 6663 | CC11: 2797 | CD11: =SUM(C11:BV11) -> 8178 | CE11: =SUM(BW11:CD11) -> 31267
A12: Bo "Hulio" Hutchinson | B12: FM-13261 | AS12: 150 | CA12: 434 | CB12: 499 | CC12: 1094 | CD12: =SUM(C12:BV12) -> 150 | CE12: =SUM(BW12:CD12) -> 2177
A13: Robert "Grom" Moore | B13: FM-13429 | D13: 220 | F13: 421 | G13: 177 | I13: 250 | J13: 200 | S13: 64 | W13: 534 | AI13: 835 | AJ13: 105 | CA13: 3302 | CB13: 2661 | CC13: 4556 | CD13: =SUM(C13:BV13) -> 2806 | CE13: =SUM(BW13:CD13) -> 13325
A14: Robert "Rallysport" Sloan | B14: FM-13625 | D14: 395 | E14: 263 | G14: 368 | Z14: 209 | AM14: 256 | AS14: 226 | BB14: 211 | BF14: 134 | CC14: 3032 | CD14: =SUM(C14:BV14) -> 2062 | CE14: =SUM(BW14:CD14) -> 5094
A15: Robert "Nighthawk" Austin II | B15: FM-13650 | L15: 868 | BG15: 1521 | BX15: 5559 | BY15: 7188 | BZ15: 5912 | CA15: 5823 | CB15: 3896 | CC15: 3392 | CD15: =SUM(C15:BV15) -> 2389 | CE15: =SUM(BW15:CD15) -> 34159
A16: Cameron "Rainman" Harbison | B16: FM-13854 | C16: 200 | D16: 210 | F16: 421 | G16: 177 | H16: 302 | I16: 232 | J16: 166 | L16: 1006 | M16: 1409 | N16: 150 | O16: 463 | P16: 10 | Q16: 72 | R16: 10 | S16: 10 | U16: 1578 | V16: 1954 | W16: 518 | X16: 854 | Y16: 522 | AA16: 1530 | AB16: 796 | AE16: 832 | AH16: 311 | AI16: 543 | AK16: 1023 | AN16: 1438 | AP16: 622 | AQ16: 607 | AS16: 130 | AU16: 1687 | AW16: 180 | AY16: 1722 | AZ16: 377 | BA16: 721 | BB16: 96 | BC16: 201 | BD16: 550 | BF16: 22 | BG16: 1208 | BI16: 340 | BL16: 480 | BN16: 20 | BS16: 911 | BT16: 85 | BV16: 560 | BX16: 0 | BY16: 677 | BZ16: 2829 | CA16: 15955 | CB16: 7643 | CC16: 11484 | CD16: =SUM(C16:BV16) -> 27256 | CE16: =SUM(BW16:CD16) -> 65844
A17: Joseph "Doclock" Lockerby | B17: FM-14552 | I17: 184 | AJ17: 79 | AW17: 193 | BB17: 94 | BE17: 141 | BO17: 148 | BP17: 179 | BQ17: 283 | BT17: 85 | CA17: 3967 | CB17: 3314 | CC17: 2794 | CD17: =SUM(C17:BV17) -> 1386 | CE17: =SUM(BW17:CD17) -> 11461
A18: Sean "Touchy" Feely | B18: FM-15034 | L18: 760 | BG18: 1521 | BX18: 799 | BY18: 6536 | BZ18: 4403 | CA18: 4640 | CB18: 705 | CC18: 937 | CD18: =SUM(C18:BV18) -> 2281 | CE18: =SUM(BW18:CD18) -> 20301
A19: Tim "Cajun" Rivet | B19: FM-15813 | C19: 170 | E19: 76 | L19: 874 | S19: 3 | AT19: 18 | BF19: 2 | BH19: 108 | BU19: 73 | CA19: 1269 | CB19: 2731 | CC19: 1418 | CD19: =SUM(C19:BV19) -> 1324 | CE19: =SUM(BW19:CD19) -> 6742
A20: Greg "Bandit" Courtney | B20: FM-16569 | C20: 163 | D20: 180 | G20: 187 | J20: 145 | P20: 15 | Q20: 68 | S20: 15 | Z20: 106 | AL20: 170 | AM20: 183 | AO20: 169 | AS20: 94 | AW20: 222 | BF20: 24 | BN20: 2 | BU20: 75 | CA20: 2002 | CB20: 4542 | CC20: 2062 | CD20: =SUM(C20:BV20) -> 1818 | CE20: =SUM(BW20:CD20) -> 10424
A21: Fransisco "Bori" Santana | B21: FM-16738 | BZ21: 0 | CA21: 0 | CB21: 75 | CC21: 0 | CD21: =SUM(C21:BV21) -> 0 | CE21: =SUM(BW21:CD21) -> 75
A22: Carlos "Undertaker" Roman | B22: FM-16939 | AG22: 111 | BY22: 921 | BZ22: 3055 | CA22: 1244 | CB22: 925 | CC22: 114 | CD22: =SUM(C22:BV22) -> 111 | CE22: =SUM(BW22:CD22) -> 6370
A23: Arias "Hektor" Hector | B23: FM-17286 | Z23: 116 | CB23: 60 | CC23: 230 | CD23: =SUM(C23:BV23) -> 116 | CE23: =SUM(BW23:CD23) -> 406
A24: Timothy "Ozark" Brendel JR | B24: FM-18719 | CA24: 1028 | CB24: 1182 | CC24: 2236 | CD24: =SUM(C24:BV24) -> 0 | CE24: =SUM(BW24:CD24) -> 4446
A25: Robert "Striker" Bryson | B25: FM-18730 | CA25: 406 | CB25: 0 | CC25: 0 | CD25: =SUM(C25:BV25) -> 0 | CE25: =SUM(BW25:CD25) -> 406
A26: Joseph "Pooch" Puccio | B26: FM-19078 | CA26: 0 | CB26: 88 | CC26: 493 | CD26: =SUM(C26:BV26) -> 0 | CE26: =SUM(BW26:CD26) -> 581
A27: Kenneth "Doc" King | B27: FM-19162 | D27: 164 | E27: 107 | F27: 411 | P27: 21 | Q27: 58 | S27: 21 | AF27: 197 | AS27: 98 | AW27: 187 | BC27: 201 | BF27: 24 | BG27: 1290 | BZ27: 2465 | CA27: 5131 | CB27: 10622 | CC27: 5114 | CD27: =SUM(C27:BV27) -> 2779 | CE27: =SUM(BW27:CD27) -> 26111
A28: Sylbert (Bret) "J12" Jackson-Smith | B28: FM-19667 | BJ28: 122 | CA28: 646 | CB28: 304 | CC28: 225 | CD28: =SUM(C28:BV28) -> 122 | CE28: =SUM(BW28:CD28) -> 1297
A29: Vincent "Streamer" Eberhart | B29: FM-19776 | CA29: 1264 | CB29: 1711 | CC29: 920 | CD29: =SUM(C29:BV29) -> 0 | CE29: =SUM(BW29:CD29) -> 3895
A30: William "Lone Wolf" Adams | B30: FM-20153 | CA30: 727 | CB30: 806 | CC30: 398 | CD30: =SUM(C30:BV30) -> 0 | CE30: =SUM(BW30:CD30) -> 1931
A31: Ryan "BDT" Landers | B31: FM-20643 | Z31: 116 | AT31: 15 | CA31: 0 | CB31: 511 | CC31: 40 | CD31: =SUM(C31:BV31) -> 131 | CE31: =SUM(BW31:CD31) -> 682
A32: William "Freeze" Skala | B32: FM-21290 | U32: 1578 | AT32: 46 | BT32: 85 | CA32: 0 | CB32: 501 | CC32: 1686 | CD32: =SUM(C32:BV32) -> 1709 | CE32: =SUM(BW32:CD32) -> 3896
A33: Matthew "Warrior Chief" Anderson | B33: FM-22230 | C33: 192 | D33: 165 | E33: 115 | G33: 165 | H33: 285 | J33: 189 | K33: 5292 | L33: 980 | S33: 19 | W33: 530 | X33: 854 | Y33: 518 | AB33: 795 | AF33: 214 | AI33: 574 | AL33: 175 | AP33: 312 | AT33: 42 | AW33: 192 | AZ33: 367 | BE33: 135 | BF33: 21 | BG33: 1287 | BI33: 355 | BM33: 189 | BP33: 229 | BQ33: 289 | BS33: 847 | BV33: 720 | CB33: 4977 | CC33: 9030 | CD33: =SUM(C33:BV33) -> 16047 | CE33: =SUM(BW33:CD33) -> 30054
A34: Carol "Psycho" Landers | B34: FM-22595 | CB34: 456 | CC34: 40 | CD34: =SUM(C34:BV34) -> 0 | CE34: =SUM(BW34:CD34) -> 496
A35: Shirley "Cougar" Anders | B35: FM-22999 | CB35: 57 | CC35: 0 | CD35: =SUM(C35:BV35) -> 0 | CE35: =SUM(BW35:CD35) -> 57
A36: Ramon "Rico" Velazques | B36: FM-23000 | CB36: 629 | CC36: 75 | CD36: =SUM(C36:BV36) -> 0 | CE36: =SUM(BW36:CD36) -> 704
A37: Jason "Henny" Barksdale | B37: FM-23407 | CB37: 450 | CC37: 70 | CD37: =SUM(C37:BV37) -> 0 | CE37: =SUM(BW37:CD37) -> 520
A38: Justin "Grizzly" Lewis | B38: FM-23408 | AT38: 15 | CB38: 174 | CC38: 295 | CD38: =SUM(C38:BV38) -> 15 | CE38: =SUM(BW38:CD38) -> 484
A39: Frank "Knuckles" Biondi | B39: FM-23500 | E39: 107 | I39: 245 | AO39: 170 | BB39: 101 | BE39: 147 | BF39: 2 | BJ39: 114 | BO39: 202 | BP39: 219 | BQ39: 299 | BT39: 155 | BU39: 74 | CB39: 277 | CC39: 471 | CD39: =SUM(C39:BV39) -> 1835 | CE39: =SUM(BW39:CD39) -> 2583
A40: Don "DJ" Erhart | B40: FM-23639 | CB40: 26 | CC40: 0 | CD40: =SUM(C40:BV40) -> 0 | CE40: =SUM(BW40:CD40) -> 26
...

Sheet RC Activity
A1: Road Captain | B1: TG/Sweep | C1: Event Name | D1: Date | E1: Number of Riders (Bikes) | F1: Total Mileage | G1: Incedent Free | H1: Incident
A2: Bandit | B2: Reaper | C2: VA 27-1 Ride to Remember | D2: 44359 | E2: 6 | F2: 1152 | G2: Y
A3: Bandit | B3: Rally Sport | C3: Ride for Sierra | D3: 44352 | E3: 11 | F3: 1477 | G3: Y
A4: Cajun | B4: Hooker | C4: Five and Dime | D4: 44448 | E4: 7 | F4: 693 | G4: Y
A5: Guanaco | B5: Reaper | C5: AMT3 Schollaert Funeral | D5: 44422 | E5: 4 | F5: 963 | G5: Y
A6: Peacemaker | B6: Rainman | C6: Funeral Honors for Jeremiah Hockman | D6: 44414 | E6: 6 | F6: 350 | G6: Y
A7: Rainman | B7: None | C7: AL 28-2 Brass Nuts Ride (Sanctioned | D7: 44197 | E7: 1 | F7: 1409 | G7: Y
A8: Rainman | B8: None | C8: Chapter Ride to Smithfield VA | D8: 44198 | E8: 3 | F8: 454 | G8: Y
A9: Rainman | B9: Reaper | C9: WV 37-3 Treasure Hunt | D9: 44395 | E9: 6 | F9: 2058 | G9: Y
A10: Rainman | B10: Rally Sport | C10: VA 27-7 Poker Run | D10: 44303 | E10: 15 | F10: 2972 | G10: Y
A11: Rainman | B11: Rally Sport | C11: VA 27-2 Bull Run III | D11: 44401 | E11: 12 | F11: 2486 | G11: Y
A12: Rainman | B12: Reaper | C12: VA 27-9 1st Annual Poker Run | D12: 44416 | E12: 12 | F12: 2337 | G12: N | H12: Rouge Accident (Ran off Road)
A13: Rainman | B13: Rally Sport | C13: AMT3 Schollaert Airport Escort | D13: 44418 | E13: 5 | F13: 1200 | G13: Y
A14: Reaper | B14: Warrior Chief | C14: SC 34-3 Annual Veterans Support Ride | D14: 44310 | E14: 4 | F14: 3245 | G14: Y
A15: Reaper | B15: Rainman | C15: WV 37-4 SGT MECOT Mem Ride | D15: 44324 | E15: 4 | F15: 2512 | G15: Y
A16: Warrior Chief | B16: DOCLOC | C16: Tech for Troop | D16: 44436 | E16: 6 | F16: 906 | G16: Y
A17: Warrior Chief | B17: Bandit | C17: Tavern on the James | D17: 44381 | E17: 6 | F17: 1231 | G17: Y
A18: Warrior Chief | B18: Rainman | C18: SC 34-1 Spring Ride | D18: 44282 | E18: 5 | F18: 4200 | G18: Y
A19: Warrior Chief | B19: GROM | C19: NC 15-1 Annual Memorial Ride | D19: 44275 | E19: 4 | F19: 3656 | G19: Y
A20: Warrior Chief | B20: Reaper | C20: DE 50-1 Clothing for Veterans Ride | D20: 44289 | E20: 5 | F20: 2153 | G20: Y
A21: Warrior Chief | B21: Rainman | C21: VA 27-4 Blue Ridge Thunder Ride | D21: 44429 | E21: 6 | F21: 2538 | G21: Y
A22: Warrior Chief | B22: Reaper | C22: NC15-6 Poker Run | D22: 44450 | E22: 4 | F22: 1385 | G22: Y
A23: J12 | B23: Hooker | C23: Red Knights 911 Ride | D23: 44450 | E23: 4 | F23: 516 | G23: Y
A24: Hooker | B24: Warrior Chief | C24: Virginia State meeting Route Recon | D24: 44457 | E24: 4 | F24: 749 | G24: Y
... A29: Bandit | B29: Cajun | C29: Mobility Works | D29: 44521 | E29: 7 | F29: 439 | G29: Y
A30: Boogie | B30: Reaper | C30: NC 15-4A SOHO Ride | D30: 44521 | E30: 5 | F30: 5130 | G30: N | H30: Rainman Bike hit (Parked)
