Workbook

Sheet Over All
A1: Member Number | B1: Member Name | C1: Two Va CVMA® Sanctioned Events | E1: Alternate CVMA® | F1: Campaign Star | K1: Total Miles | L1: Enrolled | M1: Patch | N1: 3,000 Miles | O1: 5,000 Miles | P1: 10,000 Miles | Q1: 15,000 Miles | R1: 20,000 Miles | S1: 25,000 Miles | T1: 30,000 Miles | U1: 35,000 Miles | V1: 40,000 Miles | W1: 45,000 Miles | X1: 50,000 Miles | Y1: 55,000 Miles | Z1: 60000 Miles | AA1: Iron Cheek | AB1: Iron Cheek | AC1: Iron Cheek | AD1: Iron Cheek | AE1: Iron Cheek | AF1: Iron Butt | AG1: Iron Butt
C2: 1 | D2: 2 | E2: 1 | F2: NC | G2: TN | H2: DC | I2: WV | J2: MD
A3: FM-7830 | B3: =HYPERLINK("http://www.combatvet.org/members/showMember.asp?LID=9416","Scott ""Big Dawg"" Johnson") -> Scott "Big Dawg" Johnson | C3: VA 27-9 | F3: NC15-4 | H3: DC 53-1 | J3: MD 40-1 | K3: =Mileage!CH3 -> 9901
A4: FM-8480 | B4: =HYPERLINK("http://www.combatvet.org/members/showMember.asp?LID=10224","jeffrey ""Stretch"" scott") -> jeffrey "Stretch" scott | K4: =Mileage!CH4 -> 8564 | L4: 41947 | M4: 41986 | N4: 41986 | O4: 42283
A5: FM-8662 | B5: =HYPERLINK("http://www.combatvet.org/members/showMember.asp?LID=10457","DALE ""Peacemaker"" FATER") -> DALE "Peacemaker" FATER | C5: VA 27-3 | E5: KY Nat | F5: R2R | K5: =Mileage!CH5 -> 29718 | L5: 41947 | M5: 41986 | N5: 41986 | O5: 42283 | P5: 42283 | Q5: 42647 | R5: 43011 | S5: 43813 | AA5: 42546 | AF5: 42283
A6: FM-10570 | B6: Robert "Ruffneck" Premo | C6: VA State 22 | K6: =Mileage!CH6 -> 257
A7: FM-11242 | B7: Chris "Backfire" Witte | K7: =Mileage!CH7 -> 1109
A8: FM-11393 | B8: Marshall "Doc" Hartless | E8: KY Nat | K8: =Mileage!CH8 -> 17192 | L8: 41947 | M8: 41986 | N8: 42283 | O8: 42283 | P8: 42283
A9: FM-11848 | B9: =HYPERLINK("http://www.combatvet.org/members/showMember.asp?LID=14498","Michael ""Half Trac"" Headrick") -> Michael "Half Trac" Headrick | K9: =Mileage!CH9 -> 8053 | L9: 41860 | M9: 41986 | N9: 43011 | O9: 43449
A10: FM-13429 | B10: Robert "Grom" Moore | C10: VA 27-3 | D10: VA 27-4 | E10: WV 37-4 | F10: NC 15-1 | G10: R2R 21 | I10: RSR 19 | K10: =Mileage!CH10 -> 16926
A11: FM-13625 | B11: Robert "Rally Sport" Sloan | C11: VA 27-3 | D11: VA 27-2 | K11: =Mileage!CH11 -> 5394
A12: FM-13854 | B12: Cameron "Rainman" Harbison | C12: VA 27-3 | D12: VA 27-2 | E12: KY 1-1 | F12: NC 15-5 | G12: TN 18-1 | H12: DC 53-1 | I12: R2R | J12: MD 40-2 | K12: =Mileage!CH12 -> 78595 | L12: 42494 | M12: 43011 | N12: 43046 | O12: 43193 | P12: 43375 | Q12: 43449 | R12: 43505 | S12: 43813 | T12: 44079 | U12: 44184 | V12: 44289 | W12: 44335 | X12: 44373 | Y12: 44408 | Z12: 44450 | AA12: 43225 | AB12: 43365 | AC12: 43367 | AD12: 43377 | AE12: 43379
A13: FM-14552 | B13: Joseph "DocLock" Lockerby | C13: VA 27-3 | D13: VA 27-9 | K13: =Mileage!CH13 -> 13761 | L13: 43620 | M13: 43813 | N13: 43813 | O13: 44201 | AA13: 44037
A14: FM-15813 | B14: Tim "Cajun" Rivet | C14: VA 27-3 | D14: VA 27-1 | E14: R2R 21 | F14: R2R 21 | K14: =Mileage!CH14 -> 7675 | L14: 43620 | M14: 43813 | N14: 44201 | O14: 44443
A15: FM-16569 | B15: Greg "Bandit" Courtney | C15: VA 27-3 | D15: VA 27-2 | F15: R2R 21 | K15: =Mileage!CH15 -> 11557 | L15: 43364 | M15: 43813 | N15: 43813 | O15: 43813
A16: FM-16738 | B16: Fransisco "Bori" Santana | K16: =Mileage!CH16 -> 75
A17: FM-18223 | B17: Joey "MAX" Klingman | K17: =Mileage!CH17 -> 0
A18: FM-18730 | B18: Robert "Striker" Bryson | K18: =Mileage!CH18 -> 406
A19: FM-19162 | B19: Kenneth "Doc" King | C19: VA 27-3 | D19: VA 27-2 | E19: KY 1-1 | F19: NC 15-4 | I19: R2R | K19: =Mileage!CH19 -> 27904 | L19: 42968 | M19: 43046 | N19: 43256 | O19: 43449 | P19: 43813 | Q19: 43813 | R19: 44201 | S19: 44576 | AA19: 44030
A20: FM-19667 | B20: Sylbert (Bret) "J12" Jackson-Smith | K20: =Mileage!CH20 -> 3827
A21: FM-19776 | B21: Vincent "Streamer" Eberhart | C21: VA 27-3 | K21: =Mileage!CH21 -> 5380
A22: FM-20313 | B22: Aaron "Natural Boy" Davis | K22: =Mileage!CH22 -> 0
A23: FM-20643 | B23: Ryan "BDT" Landers | K23: =Mileage!CH23 -> 682
A24: FM-21290 | B24: William "Freeze" Skala | C24: VA 27-3 | E24: FL 20-13 | K24: =Mileage!CH24 -> 3896
A25: FM-22230 | B25: Matthew"Warrior Chief"Anderson | C25: VA 27-3 | D25: VA 27-2 | E25: KY 1-1 | F25: NC 15-4 | G25: R2R 21 | H25: DC 53-1 | I25: WV 37-2 | J25: MD 40-1 | K25: =Mileage!CH25 -> 36111 | L25: 44061 | M25: 44201 | N25: 44201 | O25: 44201 | P25: 44331 | Q25: 44373 | R25: 44408 | S25: 44450 | T25: 44576 | AA25: 44030 | AB25: 44364 | AC25: 44365 | AD25: 44366 | AE25: 44374
A26: FM-22595 | B26: Carol "Psycho" Landers | K26: =Mileage!CH26 -> 496
A27: FM-22999 | B27: Shirlie "Cougar" Anders | K27: =Mileage!CH27 -> 57
A28: FM-23500 | B28: Francis "Knuckles" Biondo | C28: VA 27-3 | D28: VA 27-9 | K28: =Mileage!CH28 -> 4104
A29: FM-23640 | B29: Michael "Yankee" Guyette | C29: VA 27-3 | D29: VA 27-4 | E29: WV 37-3 | F29: NC 15-1 | H29: DC 53-1 | I29: WV 37-3 | J29: MD 40 | K29: =Mileage!CH29 -> 10338 | L29: 43813 | M29: 44201 | N29: 44450 | AA29: 44030
A30: FM-23658 | B30: Lyde "Boogie" Andrews | C30: R2R 21 | D30: VA 27 State 21 | E30: SC 34-4 | F30: NC 15-4A | G30: R2R 21 | J30: MD 40-1 | K30: =Mileage!CH30 -> 8597 | L30: 43813 | M30: 44201 | N30: 44201 | AA30: 44037
A31: FM-24188 | B31: William "Hooker" Eagen | C31: VA 27-3 | D31: VA 27 State 21 | E31: R2R 21 | G31: R2R 21 | K31: =Mileage!CH31 -> 3980 | L31: 44076
A32: FM-24260 | B32: Elizabeth "Pika" Jones | C32: VA 27-3 | D32: VA 27-7 | E32: R2R 21 | K32: =Mileage!CH32 -> 3490 | L32: 44101 | M32: 44201
A33: FM-24282 | B33: Jason "Joker" Williams | K33: =Mileage!CH38 -> 108
A34: FM-24311 | B34: Irvin "Reaper" Brooks | C34: VA 27-3 | D34: VA 27-2 | E34: SC 34-1 | F34: NC 15-1 | G34: TN 18-2 | H34: DC 53-1 | I34: WV 37-4 | J34: MD 40-2 | K34: =Mileage!CH34 -> 34585 | L34: 43748 | M34: 44201 | N34: 44201 | O34: 44201 | P34: 44331 | Q34: 44373 | R34: 44408 | S34: 44450 | AA34: 43813 | AB34: 44030 | AC34: 44346 | AD34: 44394 | AE34: 44408
A35: FM-24670 | B35: Tavaris "Alpha" Jones | C35: VA 27-3 | D35: R2R 21 | G35: R2R 21 | K35: =Mileage!CH35 -> 1389
A36: FM-24701 | B36: Kenneth "Warhorse" Hammond | C36: VA 27-7 | K36: =Mileage!CH36 -> 859 | L36: 44076
A37: FM-24942 | B37: Michael "P.Y.T." Jackson | K37: =Mileage!CH37 -> 0
A38: FM-25238 | B38: Alexander "LOBO" Cruz | K38: =Mileage!CH38 -> 108
A39: FM-25330 | B39: Steven "Scooter" Scott | K39: =Mileage!CH39 -> 0
A40: FM-25439 | B40: Harold "Nobody" Ring | C40: VA 27-3 | D40: VA 27-7 | K40: =Mileage!CH40 -> 1399
A41: FM-25967 | B41: Carl "Duke" Dye | K41: =Mileage!CH41 -> 0
A42: FM-25968 | B42: Christina "Fuego" Dye | K42: =Mileage!CH42 -> 0
A43: FM-26286 | B43: Randy "AGONY" Burlock | C43: VA 27-10 | D43: VA State 22 | E43: KY Nat | K43: =Mileage!CH43 -> 2853
A44: FM-26448 | B44: John "Airborne" Bright | C44: VA 27-3 | D44: VA 27-9 | E44: R2R 21 | G44: R2R 21 | K44: =Mileage!CH44 -> 2363
A45: FM-26809 | B45: Ryan "Tripwire" Lair | C45: VA 27-3 | D45: VA 27-2 | K45: =Mileage!CH45 -> 1042
A46: FM-27303 | B46: Jeremiah "WALLY" Wallace | K46: =Mileage!CH46 -> 1494
A47: FM-27304 | B47: Larry "GOOTCH" Gootee | K47: =Mileage!CH47 -> 0
A48: FM-28075 | B48: Robert "Grizzly" Estes | C48: VA 27-7 | D48: VA State 22 | E48: KY Nat | H48: DC 53-1 | K48: =Mileage!CH48 -> 3584
A49: FM-28301 | B49: Ronald "Mad-dog" Buchanan | K49: =Mileage!CH49 -> 439
A50: FM-28321 | B50: Micheal "Lewe" Lewis | C50: VA 27-1 | D50: VA 27-10 | K50: =Mileage!CH50 -> 2002
A51: FM28612 | B51: Christopher "Bird Dawg" Erwin | K51: =Mileage!CH51 -> 0
A52: FM28613 | B52: Jeanpierre "Dozer" Ampuero | K52: =Mileage!CH52 -> 0
A53: FM28831 | B53: Juan "Cholo" Pasadas | K53: =Mileage!CH53 -> 239
A54: FM-29043 | B54: Brian "Scout" Harte | K54: =Mileage!CH54 -> 0
A55: FM-29046 | B55: William "Buckle" Alvarez | K55: =Mileage!CH55 -> 0
A56: FM-29204 | B56: Stephen "Shark" Burks | C56: VA State 22 | K56: =Mileage!CH56 -> 0
A57: FM-29320 | B57: Micheal "KUMA" Losoya | K57: =Mileage!CH57 -> 0
A58: FM-29350 | B58: Brian "ROIDBERG" Rydberg | K58: =Mileage!CH58 -> 0
A59: FM-29351 | B59: Jorge "EAD" Ruizchange | K59: =Mileage!CH59 -> 0
A60: SUP-965 | B60: Mike "Nutti Professor" Doughty | K60: =Mileage!CH60 -> 2902 | L60: 42711 | M60: 44201
A61: SUP-1106 | B61: William "CAPT Crunch" Ortiz | K61: =Mileage!CH61 -> 0
A62: SUP-1153 | B62: Louis "Babalou" Johnson | C62: VA 27-3 | D62: VA 27-2 | K62: =Mileage!CH62 -> 7412 | L62: 43382 | M62: 43813 | N62: 43813 | O62: 44422
A63: SUP-1163 | B63: Lorna "Shatze" King | C63: VA 27-3 | E63: KY 1-1 | F63: NC 15-4 | I63: R2R | K63: =Mileage!CH63 -> 11480
A64: SUP-1449 | B64: Roger "Rudyee" Lowry | C64: VA 27-3 | D64: VA 27-7 | E64: KY 1-1 | F64: NC 15-1 | K64: =Mileage!CH64 -> 10812 | L64: 43880 | M64: 44201 | N64: 44201 | O64: 44443 | AA64: 44030
A65: SUP-1515 | B65: Tracey "Rogue" Guyette | C65: VA 27-3 | D65: NC 15-4A | F65: NC 15-1 | H65: DC 53-1 | J65: MD 40 | K65: =Mileage!CH65 -> 7645 | L65: 43813 | AA65: 44030
A66: SUP-1641 | B66: Kelly "Minnesota" Jablonski | C66: VA 27-3 | D66: VA 27 State 21 | K66: =Mileage!CH66 -> 2010 | L66: 44076
A67: SUP-1844 | B67: Jeremy "Grease Monkey" Woodard | G67: R2R21 | K67: =Mileage!CH67 -> 823
A68: SUP-1995 | B68: Daniel "Early Bird" Peters | C68: VA State 22 | K68: =Mileage!CH68 -> 449
A69: SUP-1996 | B69: Pamela "Flash" Ireland | K69: =Mileage!CH69 -> 0
A70: AUX-8662 | B70: Crystal"Wild Thang"Fater | C70: VA 27-3 | K70: =Mileage!$CH$70 -> 4112
A71: AUX-10570 | B71: Jessica "Kicks" Premo | C71: VA State 22 | K71: =Mileage!$CH$70 -> 4112
A72: AUX-11848 | B72: Karen "Happy Hippie" Headrick | C72: VA 27-3 | K72: =Mileage!CH72 -> 150
A73: AUX-13429 | B73: Kelly "Nitro" Moore | C73: VA 27-3 | E73: WV 37-4 | K73: =Mileage!CH73 -> 6558
A74: AUX-14552 | B74: Cheran "Wheeezy" Lockerby | C74: VA 27-3 | D74: VA 27-9 | H74: DC 53-1 | K74: =Mileage!CH74 -> 12238 | L74: 43620 | M74: 43813 | N74: 43813 | O74: 44201
A75: AUX-15813 | B75: Chris "Hot Sauce" Rivet | C75: VA 27-3 | D75: R2R 21 | F75: R2R 19 | G75: R2R 21 | K75: =Mileage!CH75 -> 3659 | L75: 43620 | M75: 44201 | N75: 44422
A76: AUX-16738 | B76: Dominga "Miss WIWI" Taveras De Santana | K76: =Mileage!CH76 -> 0
A77: AUX-19667 | B77: Tonya "Chilly" Jackson-Smith | K77: =Mileage!CH77 -> 2502
A78: FM-22230 | B78: Flavia "Bayeux" Anderson | H78: DC53-1 | K78: =Mileage!CH78 -> 3886
A79: SUX-24282 | B79: Samantha "SKS" Williams | K79: =Mileage!CH79 -> 0
A80: AUX-24311 | B80: Gloria "Momdukes" Brooks | C80: VA 27-3 | D80: VA 27 State 21 | E80: KY 1-1 | F80: NC 15-4A | K80: =Mileage!CH80 -> 12366 | L80: 44378 | M80: 44450 | N80: 44374 | O80: 44375
A81: AUX-24701 | B81: Amy "Luna" Hammond | K81: =Mileage!CH81 -> 383
A82: AUX-26448 | B82: Machelle "HH6" Bright | C82: VA 27-3 | D82: VA 27-9 | E82: R2R 21 | G82: R2R21 | K82: =Mileage!CH82 -> 2080
A83: AUX-27303 | B83: Christina "Warden" Wallace | K83: =Mileage!CH83 -> 1619
A84: AUX-28301 | B84: Maryann "Toots" Buchanan | K84: =Mileage!CH84 -> 439
A85: AUX-28831 | B85: Jennifer "Jenny" Posadas | K85: =Mileage!CH85 -> 0
A86: SAUX-1106 | B86: Elianette "Roses" Robles | K86: =Mileage!CH86 -> 0

Sheet Mileage
A1: 2022 | C1: Va CVMA® Sanctioned Events | L1: CVMA® Sanctioned Events | BY1: RWP Year Totals | CH1: Total Miles Logged
A2: Member Name | B2: Member Number | C2: 27-1 "Ride To Remember" | D2: 27-2 Bull Run III | E2: 27-4 Blue Ridge Thunder | F2: 27-7 2nd Annual Poker Run | G2: 27-8 Poker Run | H2: 27-9 1st Annual Poker Run | I2: 27-10 Poker Run Manassass VA | J2: 27-11 Poker Run 23 Apr 22 | K2: VA State Meeting | L2: 2022 CVMA® Nationals | M2: 2022 Region 2 Regionals | N2: 15 Jan 22 FL 20 15th Anniversery | O2: 22 Jan 22 MD 40-2 Frozen Chrome | P2: 12 Mar 22 SC 34-1 Spring Ride | Q2: 6 Mar 22 New Kent Winery Ride | R2: 5 Mar 22 Preices BBQ Ride | S2: 19 Mar 22 NC 15-1 Sanctioned Ride | T2: 26 Mar 22 GA 25-3 Shamrock Fest | U2: 9 Apr 22 GA 25-5 Poker Run | V2: 9 Apr 22 FL 20-7 K-9 Poker Run | W2: DE 50-1 Poker Run 30 Apr 22 (Sanctioned) | X2: Blue Awareness Poker Run 30 Apr 22 | Y2: 14 May 22 DC 53-1 Monumental Poker Run (Sanctioned) | Z2: 21 May 22 MD State Meeting (Sanctioned) | AA2: 28 May 22 Ride to the Wall (Sanctioned) | AB2: 6 June 22 Ride for Sierra | AC2: 18 June 22 VCON Poker Run | AD2: 25 June 22 Yorktown ride J12 | AE2: 8 Jul 22 PA22-10 Gettysburg Bike Week (Sanctioned) | AF2: 16 July 22 Tech for Troops | AG2: PA 22-1 Annual Ride (Sanctioned) | AH2: 23 July 22 VA 27-2 and WV 34-1 (Sanctioned Events) | AI2: 23 Jul 22 Region lll Rally Conway NH (Sanctioned) | AJ2: 30 July 22 Freedom Riders event | AK2: 6 Aug 22 Chapter Ride | AL2: 13 Aug 22 Chapter Picnic Ride | AM2: 13 Aug 22 Teacy Taliaferro Poker run | AN2: 13 Aug 22 NC 15-11 (Sanctioned) Ride | AO2: 14 Aug 22 Chapter breakfast Ride | AP2: 28 Aug 22 Chesterfirld Parade | AQ2: 2-4 Sept 22 KY 1-1 Sanctioned Ride | AR2: 18 Sep 22 Chapter Ride | BY2: 2014 RWP Mileage | BZ2: 2015 RWP Mileage | CA2: 2016 RWP Mileage | CB2: 2017 RWP Mileage | CC2: 2018 RWP Mileage | CD2: 2019 RWP Mileage | CE2: 2020 RWP Mileage | CF2: 2021 RWP Mileage | CG2: 2022 RWP Mileage
A3: =HYPERLINK("http://www.combatvet.org/members/showMember.asp?LID=9416","Scott ""Big Dawg"" Johnson") -> Scott "Big Dawg" Johnson | B3: FM-7830 | C3: 158 | F3: 250 | J3: 310 | L3: 1308 | R3: 100 | X3: 130 | Y3: 280 | AA3: 1025 | AB3: 118 | AC3: 135 | AJ3: 104 | AK3: 176 | CB3: 26 | CC3: 713 | CD3: 1014 | CE3: 2322 | CF3: 1732 | CG3: =SUM(C3:BX3) -> 4094 | CH3: =SUM(BY3:CG3) -> 9901
A4: =HYPERLINK("http://www.combatvet.org/members/showMember.asp?LID=10224","jeffrey ""Stretch"" Scott") -> jeffrey "Stretch" Scott | B4: FM-8480 | BY4: 4193 | BZ4: 3674 | CA4: 141 | CB4: 72 | CC4: 484 | CD4: 0 | CE4: 0 | CF4: 0 | CG4: =SUM(C4:BX4) -> 0 | CH4: =SUM(BY4:CG4) -> 8564
A5: DALE "Peacemaker" FATER | B5: FM-8662 | I5: 252 | L5: 1425 | AA5: 300 | BY5: 3046 | BZ5: 8469 | CA5: 4370 | CB5: 5024 | CC5: 2887 | CD5: 2578 | CE5: 1212 | CF5: 155 | CG5: =SUM(C5:BX5) -> 1977 | CH5: =SUM(BY5:CG5) -> 29718
A6: Robert "Ruffneck" Premo | B6: FM-10570 | K6: 257 | CG6: =SUM(C6:BX6) -> 257 | CH6: =SUM(BY6:CG6) -> 257
A7: Chris "Backfire" Witte | B7: FM-11242 | CC7: 570 | CD7: 501 | CE7: 38 | CF7: 0 | CG7: =SUM(C7:BX7) -> 0 | CH7: =SUM(BY7:CG7) -> 1109
A8: Marshall "Doc" Hartless | B8: FM-11393 | I8: 252 | L8: 1453 | R8: 100 | BY8: 1566 | BZ8: 8738 | CA8: 852 | CB8: 4231 | CC8: 0 | CD8: 0 | CE8: 0 | CF8: 0 | CG8: =SUM(C8:BX8) -> 1805 | CH8: =SUM(BY8:CG8) -> 17192
A9: =HYPERLINK("http://www.combatvet.org/members/showMember.asp?LID=14498","Michael ""Half Trac"" Headrick") -> Michael "Half Trac" Headrick | B9: FM-11848 | AB9: 118 | BY9: 1975 | BZ9: 326 | CA9: 585 | CB9: 1674 | CC9: 1214 | CD9: 1480 | CE9: 404 | CF9: 277 | CG9: =SUM(C9:BX9) -> 118 | CH9: =SUM(BY9:CG9) -> 8053
A10: Robert "Grom" Moore | B10: FM-13429 | C10: 200 | E10: 365 | F10: 281 | I10: 252 | J10: 234 | K10: 245 | L10: 1235 | R10: 125 | AB10: 118 | AC10: 135 | AJ10: 104 | AK10: 218 | AM10: 89 | CC10: 3302 | CD10: 2661 | CE10: 4556 | CF10: 2806 | CG10: =SUM(C10:BX10) -> 3601 | CH10: =SUM(BY10:CG10) -> 16926
A11: Robert "Rallysport" Sloan | B11: FM-13625 | R11: 182 | AB11: 118 | CE11: 3032 | CF11: 2062 | CG11: =SUM(C11:BX11) -> 300 | CH11: =SUM(BY11:CG11) -> 5394
A12: Cameron "Rainman" Harbison | B12: FM-13854 | C12: 199 | F12: 281 | I12: 277 | J12: 310 | K12: 245 | L12: 1640 | N12: 1680 | O12: 505 | Q12: 107 | R12: 125 | T12: 1128 | U12: 1437 | V12: 250 | W12: 526 | Y12: 282 | Z12: 375 | AA12: 310 | AB12: 118 | AC12: 135 | AE12: 451 | AG12: 707 | AI12: 1487 | AR12: 176 | BZ12: 0 | CA12: 677 | CB12: 2829 | CC12: 15955 | CD12: 7643 | CE12: 11484 | CF12: 27256 | CG12: =SUM(C12:BX12) -> 12751 | CH12: =SUM(BY12:CG12) -> 78595
A13: Joseph "Doclock" Lockerby | B13: FM-14552 | F13: 249 | J13: 310 | L13: 1245 | R13: 138 | X13: 108 | AC13: 135 | AF13: 115 | CC13: 3967 | CD13: 3314 | CE13: 2794 | CF13: 1386 | CG13: =SUM(C13:BX13) -> 2300 | CH13: =SUM(BY13:CG13) -> 13761
A14: Tim "Cajun" Rivet | B14: FM-15813 | I14: 261 | J14: 310 | R14: 125 | X14: 102 | AC14: 135 | CC14: 1269 | CD14: 2731 | CE14: 1418 | CF14: 1324 | CG14: =SUM(C14:BX14) -> 933 | CH14: =SUM(BY14:CG14) -> 7675
A15: Greg "Bandit" Courtney | B15: FM-16569 | C15: 190 | I15: 295 | Q15: 85 | AB15: 118 | AC15: 135 | AD15: 185 | AO15: 125 | CC15: 2002 | CD15: 4542 | CE15: 2062 | CF15: 1818 | CG15: =SUM(C15:BX15) -> 1133 | CH15: =SUM(BY15:CG15) -> 11557
A16: Fransisco "Bori" Santana | B16: FM-16738 | CB16: 0 | CC16: 0 | CD16: 75 | CE16: 0 | CF16: 0 | CG16: =SUM(C16:BX16) -> 0 | CH16: =SUM(BY16:CG16) -> 75
A17: Joey "MAX" Klingman | B17: FM-1823 | CG17: =SUM(C17:BX17) -> 0 | CH17: =SUM(BY17:CG17) -> 0
A18: Robert "Striker" Bryson | B18: FM-18730 | CC18: 406 | CD18: 0 | CE18: 0 | CF18: 0 | CG18: =SUM(C18:BX18) -> 0 | CH18: =SUM(BY18:CG18) -> 406
A19: Kenneth "Doc" King | B19: FM-19162 | I19: 287 | L19: 1269 | Q19: 102 | R19: 135 | CB19: 2465 | CC19: 5131 | CD19: 10622 | CE19: 5114 | CF19: 2779 | CG19: =SUM(C19:BX19) -> 1793 | CH19: =SUM(BY19:CG19) -> 27904
A20: Sylbert (Bret) "J12" Jackson-Smith | B20: FM-19667 | F20: 250 | I20: 295 | J20: 350 | X20: 115 | AB20: 118 | AC20: 135 | AD20: 172 | AF20: 143 | AH20: 314 | AJ20: 104 | AK20: 205 | AL20: 204 | AO20: 125 | CC20: 646 | CD20: 304 | CE20: 225 | CF20: 122 | CG20: =SUM(C20:BX20) -> 2530 | CH20: =SUM(BY20:CG20) -> 3827
A21: Vincent "Streamer" Eberhart | B21: FM-19776 | J21: 250 | L21: 1235 | CC21: 1264 | CD21: 1711 | CE21: 920 | CF21: 0 | CG21: =SUM(C21:BX21) -> 1485 | CH21: =SUM(BY21:CG21) -> 5380
A22: Aaron "Natural Boy" Davis | B22: FM-20313 | CG22: =SUM(C22:BX22) -> 0 | CH22: =SUM(BY22:CG22) -> 0
A23: Ryan "BDT" Landers | B23: FM-20643 | CC23: 0 | CD23: 511 | CE23: 40 | CF23: 131 | CG23: =SUM(C23:BX23) -> 0 | CH23: =SUM(BY23:CG23) -> 682
A24: William "Freeze" Skala | B24: FM-21290 | CC24: 0 | CD24: 501 | CE24: 1686 | CF24: 1709 | CG24: =SUM(C24:BX24) -> 0 | CH24: =SUM(BY24:CG24) -> 3896
A25: Matthew "Warrior Chief" Anderson | B25: FM-22230 | C25: 190 | E25: 382 | F25: 249 | J25: 340 | L25: 1389 | S25: 435 | X25: 105 | Y25: 275 | AA25: 277 | AB25: 118 | AE25: 445 | AH25: 480 | AN25: 312 | AQ25: 1060 | CD25: 4977 | CE25: 9030 | CF25: 16047 | CG25: =SUM(C25:BX25) -> 6057 | CH25: =SUM(BY25:CG25) -> 36111
A26: Carol "Psycho" Landers | B26: FM-22595 | CD26: 456 | CE26: 40 | CF26: 0 | CG26: =SUM(C26:BX26) -> 0 | CH26: =SUM(BY26:CG26) -> 496
A27: Shirley "Cougar" Anders | B27: FM-22999 | CD27: 57 | CE27: 0 | CF27: 0 | CG27: =SUM(C27:BX27) -> 0 | CH27: =SUM(BY27:CG27) -> 57
A28: Francis "Knuckles" Biondo | B28: FM-23500 | J28: 340 | R28: 121 | X28: 105 | AA28: 283 | AB28: 118 | AC28: 135 | AE28: 419 | CD28: 277 | CE28: 471 | CF28: 1835 | CG28: =SUM(C28:BX28) -> 1521 | CH28: =SUM(BY28:CG28) -> 4104
A29: Michael "Yankee" Guyette | B29: FM-23640 | C29: 199 | F29: 219 | J29: 340 | K29: 195 | L29: 1245 | S29: 450 | Y29: 250 | Z29: 357 | AA29: 275 | AC29: 135 | AF29: 143 | AH29: 433 | AJ29: 104 | AK29: 191 | AL29: 204 | AO29: 125 | AR29: 176 | CD29: 94 | CE29: 1608 | CF29: 3595 | CG29: =SUM(C29:BX29) -> 5041 | CH29: =SUM(BY29:CG29) -> 10338
A30: Lyde "Boogie" Andrews | B30: FM-23658 | I30: 300 | L30: 1134 | R30: 150 | CD30: 843 | CE30: 3502 | CF30: 2668 | CG30: =SUM(C30:BX30) -> 1584 | CH30: =SUM(BY30:CG30) -> 8597
A31: William "Hooker" Eagen | B31: FM-24188 | L31: 1235 | AJ31: 104 | AK31: 191 | CE31: 828 | CF31: 1622 | CG31: =SUM(C31:BX31) -> 1530 | CH31: =SUM(BY31:CG31) -> 3980
A32: Elizabeth "Pika" Jones | B32: FM-24260 | CE32: 2255 | CF32: 1235 | CG32: =SUM(C32:BX32) -> 0 | CH32: =SUM(BY32:CG32) -> 3490
A33: Jason "Joker" Williams | B33: FM-24282 | CG33: =SUM(C33:BX33) -> 0 | CH33: =SUM(BY33:CG33) -> 0
A34: Irvin "Reaper" Brooks | B34: FM-24311 | C34: 170 | E34: 365 | F34: 281 | K34: 245 | L34: 1485 | O34: 505 | P34: 805 | S34: 432 | W34: 526 | Y34: 284 | Z34: 387 | AA34: 315 | AB34: 118 | AE34: 455 | AH34: 496 | AK34: 218 | AN34: 273 | AR34: 176 | CC34: 364 | CD34: 1796 | CE34: 7470 | CF34: 17419 | CG34: =SUM(C34:BX34) -> 7536 | CH34: =SUM(BY34:CG34) -> 34585
A35: Tavaris "Alpha" Jones | B35: FM-24670 | CE35: 510 | CF35: 879 | CG35: =SUM(C35:BX35) -> 0 | CH35: =SUM(BY35:CG35) -> 1389
A36: Kenneth "WarHorse" Hammond | B36: FM-24701 | CE36: 655 | CF36: 204 | CG36: =SUM(C36:BX36) -> 0 | CH36: =SUM(BY36:CG36) -> 859
A37: Michael "P.Y.T." Jackson | B37: FM-24942 | CG37: =SUM(C37:BX37) -> 0 | CH37: =SUM(BY37:CG37) -> 0
A38: Alexander "LOBO" Cruz | B38: FM-25238 | X38: 108 | CG38: =SUM(C38:BX38) -> 108 | CH38: =SUM(BY38:CG38) -> 108
A39: Steven "Scooter" Scott | B39: FM-25330 | CG39: =SUM(C39:BX39) -> 0 | CH39: =SUM(BY39:CG39) -> 0
A40: Harold "Nobody" Ring | B40: FM-25439 | F40: 180 | AB40: 118 | AC40: 135 | CE40: 118 | CF40: 848 | CG40: =SUM(C40:BX40) -> 433 | CH40: =SUM(BY40:CG40) -> 1399
A41: Carl "Duke" Dye | B41: FM-25967 | CG41: =SUM(C41:BX41) -> 0 | CH41: =SUM(BY41:CG41) -> 0
A42: Christina "Fuego" Dye | B42: FM-25968 | CG42: =SUM(C42:BX42) -> 0 | CH42: =SUM(BY42:CG42) -> 0
A43: Randy "AGONY" Burlock | B43: FM-26286 | C43: 190 | I43: 252 | J43: 310 | K43: 230 | L43: 1235 | Y43: 300 | AH43: 220 | AP43: 116 | CG43: =SUM(C43:BX43) -> 2853 | CH43: =SUM(BY43:CG43) -> 2853
A44: John "Airborne" Bright | B44: FM-26448 | K44: 283 | AP44: 126 | CF44: 1954 | CG44: =SUM(C44:BX44) -> 409 | CH44: =SUM(BY44:CG44) -> 2363
A45: Ryan "Tripwire" Lair | B45: FM-26809 | J45: 340 | AB45: 118 | AP45: 108 | CF45: 476 | CG45: =SUM(C45:BX45) -> 566 | CH45: =SUM(BY45:CG45) -> 1042
A46: Jeremiah "WALLY" Wallace | B46: FM-27303 | C46: 195 | AB46: 118 | AD46: 181 | AH46: 320 | AJ46: 104 | AK46: 196 | AL46: 204 | AR46: 176 | CG46: =SUM(C46:BX46) -> 1494 | CH46: =SUM(BY46:CG46) -> 1494
A47: Larry "GOOTCH" Gootee | B47: FM-27304 | CG47: =SUM(C47:BX47) -> 0 | CH47: =SUM(BY47:CG47) -> 0
A48: Robert "Grizzly" Estes | B48: FM-28075 | E48: 393 | F48: 250 | K48: 242 | L48: 1250 | S48: 314 | X48: 150 | AA48: 375 | AB48: 118 | AC48: 135 | AH48: 240 | AP48: 117 | CG48: =SUM(C48:BX48) -> 3584 | CH48: =SUM(BY48:CG48) -> 3584
A49: Ronald "Mad-dog" Buchanan | B49: FM-28301 | AB49: 118 | AD49: 125 | AK49: 196 | CG49: =SUM(C49:BX49) -> 439 | CH49: =SUM(BY49:CG49) -> 439
A50: Micheal "Lewe" Lewis | B50: FM-28321 | C50: 180 | I50: 300 | J50: 340 | K50: 222 | AB50: 118 | AC50: 135 | AH50: 450 | AN50: 257 | CG50: =SUM(C50:BX50) -> 2002 | CH50: =SUM(BY50:CG50) -> 2002
A51: Christopher "Bird Dawg" Erwin | B51: FM28612 | CG51: =SUM(C51:BX51) -> 0 | CH51: =SUM(BY51:CG51) -> 0
A52: Jeanpierre "Dozer" Ampuero | B52: FM28613 | CG52: =SUM(C52:BX52) -> 0 | CH52: =SUM(BY52:CG52) -> 0
A53: Juan "Cholo" Pasadas | B53: FM-28831 | AC53: 135 | AJ53: 104 | CG53: =SUM(C53:BX53) -> 239 | CH53: =SUM(BY53:CG53) -> 239
A54: Brian "Scout" Harte | B54: FM-29043 | CG54: =SUM(C54:BX54) -> 0 | CH54: =SUM(BY54:CG54) -> 0
A55: William "Buckle" Alvarez | B55: FM-29046 | CG55: =SUM(C55:BX55) -> 0 | CH55: =SUM(BY55:CG55) -> 0
A56: Stephen "Shark" Burks | B56: FM-29204 | CG56: =SUM(C56:BX56) -> 0 | CH56: =SUM(BY56:CG56) -> 0
A57: Micheal "KUMA" Losoya | B57: FM-29320 | CG57: =SUM(C57:BX57) -> 0 | CH57: =SUM(BY57:CG57) -> 0
A58: Brian "ROIDBERG" Rydberg | B58: FM-29350 | CG58: =SUM(C58:BX58) -> 0 | CH58: =SUM(BY58:CG58) -> 0
A59: Jorge "EAD" Ruizchange | B59: FM-29351 | CG59: =SUM(C59:BX59) -> 0 | CH59: =SUM(BY59:CG59) -> 0
A60: Mike "Nutti Professor" Doughty | B60: SUP-965 | CA60: 204 | CB60: 799 | CC60: 262 | CD60: 234 | CE60: 1403 | CF60: 0 | CG60: =SUM(C60:BX60) -> 0 | CH60: =SUM(BY60:CG60) -> 2902
A61: William "CAPT Crunch" Ortiz | B61: SUP-1106 | CE61: 0 | CF61: 0 | CG61: =SUM(C61:BX61) -> 0 | CH61: =SUM(BY61:CG61) -> 0
A62: Louis "Babalou" Johnston | B62: SUP-1153 | L62: 1235 | R62: 145 | AB62: 118 | AC62: 135 | AJ62: 104 | CC62: 1827 | CD62: 2318 | CE62: 427 | CF62: 1103 | CG62: =SUM(C62:BX62) -> 1737 | CH62: =SUM(BY62:CG62) -> 7412
A63: Lorna "Shatze" King | B63: SUP-1163 | L63: 1269 | CC63: 3471 | CD63: 3308 | CE63: 2142 | CF63: 1290 | CG63: =SUM(C63:BX63) -> 1269 | CH63: =SUM(BY63:CG63) -> 11480
A64: Roger "Rudyee" Lowry | B64: SUP-1449 | J64: 340 | L64: 1313 | AB64: 118 | AF64: 125 | CD64: 2037 | CE64: 3256 | CF64: 3623 | CG64: =SUM(C64:BX64) -> 1896 | CH64: =SUM(BY64:CG64) -> 10812
A65: Tracey "Rogue" Guyette | B65: SUP-1515 | C65: 199 | F65: 219 | J65: 310 | L65: 1245 | S65: 450 | W65: 526 | Y65: 250 | Z65: 357 | AA65: 275 | AC65: 135 | AF65: 143 | AH65: 433 | AK65: 191 | AL65: 204 | AO65: 125 | AR65: 176 | CD65: 94 | CE65: 1231 | CF65: 1082 | CG65: =SUM(C65:BX65) -> 5238 | CH65: =SUM(BY65:CG65) -> 7645
A66: Kelly "Minnesota" Jablonski | B66: SUP-1641 | AK66: 191 | CE66: 432 | CF66: 1387 | CG66: =SUM(C66:BX66) -> 191 | CH66: =SUM(BY66:CG66) -> 2010
A67: Jeremy "Grease Monkey" Woodard | B67: SUP-1844 | C67: 186 | K67: 283 | AP67: 126 | CF67: 228 | CG67: =SUM(C67:BX67) -> 595 | CH67: =SUM(BY67:CG67) -> 823
A68: Daniel "Early Bird" Peters | B68: SUP-1995 | K68: 245 | AL68: 204 | CG68: =SUM(C68:BX68) -> 449 | CH68: =SUM(BY68:CG68) -> 449
A69: Pamela "Flash" Ireland | B69: SUP-1996 | CG69: =SUM(C69:BX69) -> 0 | CH69: =SUM(BY69:CG69) -> 0
A70: Crystal "Wild Thang" Fater | B70: AUX-8662 | L70: 1425 | CC70: 578 | CD70: 1017 | CE70: 1092 | CF70: 0 | CG70: =SUM(C70:BX70) -> 1425 | CH70: =SUM(BY70:CG70) -> 4112
A71: Jessica "Kicks" Premo | B71: AUX-10570 | K71: 257 | CG71: =SUM(C71:BX71) -> 257 | CH71: =SUM(BY71:CG71) -> 257
A72: Karen "Happy Hippie" Headrick | B72: AUX-11848 | AB72: 118 | CF72: 32 | CG72: =SUM(C72:BX72) -> 118 | CH72: =SUM(BY72:CG72) -> 150
A73: Kelly "Nitro" Moore | B73: AUX-13429 | C73: 200 | R73: 125 | AB73: 118 | AC73: 135 | AK73: 218 | CC73: 1495 | CD73: 691 | CE73: 2937 | CF73: 639 | CG73: =SUM(C73:BX73) -> 796 | CH73: =SUM(BY73:CG73) -> 6558
A74: Cheran "Wheeezy" Lockerby | B74: AUX-14552 | F74: 249 | J74: 340 | L74: 1245 | R74: 138 | X74: 108 | AC74: 135 | AF74: 115 | CC74: 2625 | CD74: 3014 | CE74: 2292 | CF74: 1977 | CG74: =SUM(C74:BX74) -> 2330 | CH74: =SUM(BY74:CG74) -> 12238
A75: Chris "Hot Sauce" Rivet | B75: AUX-15813 | CC75: 652 | CD75: 1681 | CE75: 1122 | CF75: 204 | CG75: =SUM(C75:BX75) -> 0 | CH75: =SUM(BY75:CG75) -> 3659
A76: Dominga "Miss WIWI" Taveras De Santana | B76: AUX-16738 | CG76: =SUM(C76:BX76) -> 0 | CH76: =SUM(BY76:CG76) -> 0
A77: Tonya "Chilly" Jackson-Smith | B77: AUX-19667 | F77: 250 | I77: 295 | J77: 350 | X77: 115 | AB77: 118 | AC77: 135 | AD77: 172 | AF77: 143 | AH77: 314 | AJ77: 104 | AK77: 205 | AO77: 125 | AR77: 176 | CG77: =SUM(C77:BX77) -> 2502 | CH77: =SUM(BY77:CG77) -> 2502
A78: Flavia "Bayeux" Anderson | B78: AUX-22230 | C78: 190 | F78: 249 | J78: 340 | L78: 1389 | S78: 435 | X78: 105 | AB78: 118 | AQ78: 1060 | CG78: =SUM(C78:BX78) -> 3886 | CH78: =SUM(BY78:CG78) -> 3886
A79: Samantha "SKS" Williams | B79: AUX-24282 | CG79: =SUM(C79:BX79) -> 0 | CH79: =SUM(BY79:CG79) -> 0
A80: Gloria "Momdukes" Brooks | B80: AUX-24311 | F80: 281 | L80: 1485 | O80: 505 | P80: 805 | AB80: 118 | AH80: 496 | CF80: 8676 | CG80: =SUM(C80:BX80) -> 3690 | CH80: =SUM(BY80:CG80) -> 12366
A81: Amy "Luna" Hammond | B81: AUX-24701 | CE81: 219 | CF81: 164 | CG81: =SUM(C81:BX81) -> 0 | CH81: =SUM(BY81:CG81) -> 383
A82: Machelle "HH6" Bright | B82: AUX-26448 | AP82: 126 | CF82: 1954 | CG82: =SUM(C82:BX82) -> 126 | CH82: =SUM(BY82:CG82) -> 2080
A83: Christina "Warden" Wallace | B83: AUX-27303 | C83: 195 | AB83: 118 | AD83: 181 | AH83: 320 | AJ83: 104 | AK83: 196 | AL83: 204 | AO83: 125 | AR83: 176 | CG83: =SUM(C83:BX83) -> 1619 | CH83: =SUM(BY83:CG83) -> 1619
A84: Maryann "Toots" Buchanan | B84: AUX-28301 | AB84: 118 | AD84: 125 | AK84: 196 | CG84: =SUM(C84:BX84) -> 439 | CH84: =SUM(BY84:CG84) -> 439
A85: Jennifer "Jenny" Posadas | B85: AUX-28831 | CG85: =SUM(C85:BX85) -> 0 | CH85: =SUM(BY85:CG85) -> 0
A86: Elianette "Roses" Robles | B86: SAUX-1106 | CE86: 0 | CF86: 0 | CG86: =SUM(C86:BX86) -> 0 | CH86: =SUM(BY86:CG86) -> 0
C87: =SUM(C3:C86) -> 2841 | D87: =SUM(D3:D86) -> 0 | E87: =SUM(E3:E82) -> 1505 | F87: =SUM(F3:F86) -> 3738 | G87: =SUM(G3:G82) -> 0 | H87: =SUM(H3:H82) -> 0 | I87: =SUM(I3:I86) -> 3318 | J87: =SUM(J3:J86) -> 5764 | K87: =SUM(K3:K82) -> 2949 | L87: =SUM(L3:L86) -> 30389 | M87: =SUM(M3:M82) -> 0 | N87: =SUM(N3:N82) -> 1680 | O87: =SUM(O3:O86) -> 1515 | P87: =SUM(P3:P86) -> 1610 | Q87: =SUM(Q3:Q86) -> 294 | R87: =SUM(R3:R86) -> 1709 | S87: =SUM(S3:S86) -> 2516 | T87: =SUM(T3:T86) -> 1128 | U87: =SUM(U3:U86) -> 1437 | V87: =SUM(V3:V86) -> 250 | ... AP87: =SUM(AP3:AP86) -> 719 | AR87: =SUM(AR3:AR86) -> 1232 | AS87: =SUM(AS3:AS86) -> 0 | AT87: =SUM(AT3:AT86) -> 0 | AU87: =SUM(AU3:AU86) -> 0 | AV87: =SUM(AV3:AV86) -> 0 | AW87: =SUM(AW3:AW86) -> 0 | AX87: =SUM(AX3:AX86) -> 0 | AY87: =SUM(AY3:AY86) -> 0 | ... BX87: =SUM(BX3:BX86) -> 0 | BY87: =SUM(BY3:BY82) -> 10780 | BZ87: =SUM(BZ3:BZ82) -> 21207 | CA87: =SUM(CA3:CA82) -> 6829 | CB87: =SUM(CB3:CB82) -> 17120 | CC87: =SUM(CC3:CC82) -> 51084 | CD87: =SUM(CD3:CD82) -> 63082 | CE87: =SUM(CE3:CE86) -> 80347 | CF87: 141549 | CG87: =SUM(CG3:CG86) -> 99036 | CH87: =SUM(CH3:CH82) -> 462125

Sheet RC Activity
A1: Road Captain | B1: TG/Sweep | C1: Event Name | D1: Date | E1: Number of Riders (Bikes) | F1: Total Mileage | G1: Incedent Free | H1: Incident
A2: Rainman | B2: Rainman | C2: FL 20 15th Anniversery Gathering | D2: 44576 | E2: 1 | F2: 1680 | G2: Y
A3: Rainman | B3: Reaper | C3: MD 40-2 Frozen Chrome | D3: 44583 | E3: 1 | F3: 2015 | G3: Y
A4: Rainman | B4: Doc (King) | C4: New Kent Winery | D4: 44626 | E4: 4 | F4: 294 | G4: Y
A5: Rainman | B5: Doc (King) | C5: Prieces BBQ | D5: 44625 | E5: 11 | F5: 1832 | G5: Y
A6: Rainman | B6: GROM | C6: VA 27-10 Sanctioned Ride | D6: 44639 | E6: 10 | F6: 2723 | G6: Y
A7: Warrior Chief | B7: Reaper | C7: NC 15-1 Sanctioned Ride | D7: 44639 | E7: 4 | F7: 2516 | G7: Y
A8: Rainman | B8: Rainman | C8: GA 25-5 Poker Run | D8: 44660 | E8: 1 | F8: 1437 | G8: Y
A9: Rainman | B9: Rainman | C9: FL 20-7 K-9 Poker Run | D9: 44660 | E9: 1 | F9: 250 | G9: Y
A10: Rainman | B10: Grom | C10: VA 27-7 Sanctioned Ride | D10: 44667 | E10: 14 | F10: 3668 | G10: Y
A11: Rainman | B11: Warrior Chief | C11: VA 27-11 Sanctioned Ride | D11: 44674 | E11: 14 | F11: 6036 | G11: Y
A12: Hooker | B12: Warrior Chief | C12: Blue Awareness Poker Run | D12: 44681 | E12: 12 | F12: 1232 | G12: Y
A13: Rainman | B13: Reaper | C13: DE 50-1 Poker Run | D13: 44681 | E13: 4 | F13: 1578 | G13: Y
... A20: J12 | B20: Bandit | C20: Yorktown Run | D20: 44737 | E20: 5 | F20: 928 | G20: Y
A21: Warrior Chief | B21: Reaper | C21: 2022 Nationals | D21: 22-26 Jun 22 | E21: 3 | F21: 5716 | G21: Y
A22: Rainman | B22: Grom | C22: 2022 Nationals | D22: 2-26 Jun 22 | E22: 10 | F22: 26380 | G22: Y
A23: J12 | B23: Yankee | C23: Tech for Troops | D23: 44758 | E23: 8 | F23: 784 | G23: Y
A24: Rainman | B24: Rainman | C24: PA 22-1 | D24: 44758 | E24: 1 | F24: 707 | G24: Y
A25: J12 | B25: Reaper | C25: Chapter Ride | D25: 44779 | E25: 6 | F25: 2375 | G25: Y
A26: Yankee | B26: J12 | C26: Chapter Ride | D26: 44786 | E26: 6 | F26: 1224 | G26: Y
A27: Warrior Chief | B27: Reaper | C27: NC 15-11 Sanctioned Ride | D27: 44786 | E27: 3 | F27: 1312 | G27: Y
A28: J12 | B28: Bandit | C28: Chapter Breakfast Ride | D28: 44787 | E28: 4 | F28: 750 | G28: Y
A29: Warrior Chief | B29: Reaper | C29: VA 27-4 Sanctioned Ride | D29: 44793 | E29: 4 | F29: 1505 | G29: Y
A30: Warrior Chief | B30: Warrior Chief | C30: KY 1-1 Sanctioned Ride | D30: 2-4 Sep 22 | E30: 1 | F30: 1060 | G30: Y
A31: Yankee | B31: J12 | C31: Chapter Ride | D31: 44821 | E31: 6 | F31: 1232 | G31: Y
A32: Rainman | B32: Reaper | C32: VA Sate Meeting | D32: 44830 | E32: 12 | F32: 2949 | G32: Y
