Workbook

Sheet Over All
A1: Member Number | B1: Member Name | C1: Two Va CVMA® Sanctioned Events | E1: Alternate CVMA® | F1: Campaign Star | K1: Total Miles | L1: Enrolled | M1: Patch | N1: 3,000 Miles | O1: 5,000 Miles | P1: 10,000 Miles | Q1: 15,000 Miles | R1: 20,000 Miles | S1: 25,000 Miles | T1: 30,000 Miles | U1: 35,000 Miles | V1: 40,000 Miles | W1: 45,000 Miles | X1: 50,000 Miles | Y1: 55,000 Miles | Z1: 60000 Miles | AA1: Iron Cheek | AB1: Iron Cheek | AC1: Iron Cheek | AD1: Iron Cheek | AE1: Iron Cheek | AF1: Iron Butt | AG1: Iron Butt
C2: 1 | D2: 2 | E2: 1 | F2: NC | G2: TN | H2: DC | I2: WV | J2: MD
A3: FM-7830 | B3: =HYPERLINK("http://www.combatvet.org/members/showMember.asp?LID=9416","Scott ""Big Dawg"" Johnson") -> Scott "Big Dawg" Johnson | C3: VA 27-9 | F3: NC15-4 | H3: DC 53-1 | J3: MD 40-1 | K3: =Mileage!CH3 -> 9901
A4: FM-8480 | B4: =HYPERLINK("http://www.combatvet.org/members/showMember.asp?LID=10224","jeffrey ""Stretch"" scott") -> jeffrey "Stretch" scott | K4: =Mileage!CH4 -> 8564 | L4: 41947 | M4: 41986 | N4: 41986 | O4: 42283
A5: FM-8662 | B5: =HYPERLINK("http://www.combatvet.org/members/showMember.asp?LID=10457","DALE ""Peacemaker"" FATER") -> DALE "Peacemaker" FATER | C5: VA 27-3 | E5: KY Nat | F5: R2R | K5: =Mileage!CH5 -> 29718 | L5: 41947 | M5: 41986 | N5: 41986 | O5: 42283 | P5: 42283 | Q5: 42647 | R5: 43011 | S5: 43813 | AA5: 42546 | AF5: 42283
A6: FM-10570 | B6: Robert "Ruffneck" Premo | C6: VA State 22 | K6: =Mileage!CH6 -> 257
A7: FM-11242 | B7: Chris "Backfire" Witte | K7: =Mileage!CH7 -> 1109
A8: FM-11393 | B8: Marshall "Doc" Hartless | E8: KY Nat | K8: =Mileage!CH8 -> 17192 | L8: 41947 | M8: 41986 | N8: 42283 | O8: 42283 | P8: 42283
A9: FM-11848 | B9: =HYPERLINK("http://www.combatvet.org/members/showMember.asp?LID=14498","Michael ""Half Trac"" Headrick") -> Michael "Half Trac" Headrick | K9: =Mileage!CH9 -> 8053 | L9: 41860 | M9: 41986 | N9: 43011 | O9: 43449
A10: FM-13429 | B10: Robert "Grom" Moore | C10: VA 27-3 | D10: VA 27-4 | E10: WV 37-4 | F10: NC 15-1 | G10: R2R 21 | I10: RSR 19 | K10: =Mileage!CH10 -> 16926
A11: FM-13625 | B11: Robert "Rally Sport" Sloan | C11: VA 27-3 | D11: VA 27-2 | K11: =Mileage!CH11 -> 5394
A12: FM-13854 | B12: Cameron "Rainman" Harbison | C12: VA 27-3 | D12: VA 27-2 | E12: KY 1-1 | F12: NC 15-5 | G12: TN 18-1 | H12: DC 53-1 | I12: R2R | J12: MD 40-2 | K12: =Mileage!CH12 -> 78595 | L12: 42494 | M12: 43011 | N12: 43046 | O12: 43193 | P12: 43375 | Q12: 43449 | R12: 43505 | S12: 43813 | T12: 44079 | U12: 44184 | V12: 44289 | W12: 44335 | X12: 44373 | Y12: 44408 | Z12: 44450 | AA12: 43225 | AB12: 43365 | AC12: 43367 | AD12: 43377 | AE12: 43379
A13: FM-14552 | B13: Joseph "DocLock" Lockerby | C13: VA 27-3 | D13: VA 27-9 | K13: =Mileage!CH13 -> 13761 | L13: 43620 | M13: 43813 | N13: 43813 | O13: 44201 | AA13: 44037
A14: FM-15813 | B14: Tim "Cajun" Rivet | C14: VA 27-3 | D14: VA 27-1 | E14: R2R 21 | F14: R2R 21 | K14: =Mileage!CH14 -> 7675 | L14: 43620 | M14: 43813 | N14: 44201 | O14: 44443
A15: FM-16569 | B15: Greg "Bandit" Courtney | C15: VA 27-3 | D15: VA 27-2 | F15: R2R 21 | K15: =Mileage!CH15 -> 11557 | L15: 43364 | M15: 43813 | N15: 43813 | O15: 43813
A16: FM-16738 | B16: Fransisco "Bori" Santana | K16: =Mileage!CH16 -> 75
A17: FM-18223 | B17: Joey "MAX" Klingman | K17: =Mileage!CH17 -> 0
A18: FM-18730 | B18: Robert "Striker" Bryson | K18: =Mileage!CH18 -> 406
A19: FM-19162 | B19: Kenneth "Doc" King | C19: VA 27-3 | D19: VA 27-2 | E19: KY 1-1 | F19: NC 15-4 | I19: R2R | K19: =Mileage!CH19 -> 27904 | L19: 42968 | M19: 43046 | N19: 43256 | O19: 43449 | P19: 43813 | Q19: 43813 | R19: 44201 | S19: 44576 | AA19: 44030
A20: FM-19667 | B20: Sylbert (Bret) "J12" Jackson-Smith | K20: =Mileage!CH20 -> 3827
A21: FM-19776 | B21: Vincent "Streamer" Eberhart | C21: VA 27-3 | K21: =Mileage!CH21 -> 5380
A22: FM-20313 | B22: Aaron "Natural Boy" Davis | K22: =Mileage!CH22 -> 0
A23: FM-20643 | B23: Ryan "BDT" Landers | K23: =Mileage!CH23 -> 682
A24: FM-21290 | B24: William "Freeze" Skala | C24: VA 27-3 | E24: FL 20-13 | K24: =Mileage!CH24 -> 3896
A25: FM-22230 | B25: Matthew"Warrior Chief"Anderson | C25: VA 27-3 | D25: VA 27-2 | E25: KY 1-1 | F25: NC 15-4 | G25: R2R 21 | H25: DC 53-1 | I25: WV 37-2 | J25: MD 40-1 | K25: =Mileage!CH25 -> 36111 | L25: 44061 | M25: 44201 | N25: 44201 | O25: 44201 | P25: 44331 | Q25: 44373 | R25: 44408 | S25: 44450 | T25: 44576 | AA25: 44030 | AB25: 44364 | AC25: 44365 | AD25: 44366 | AE25: 44374
A26: FM-22595 | B26: Carol "Psycho" Landers | K26: =Mileage!CH26 -> 496
A27: FM-22999 | B27: Shirlie "Cougar" Anders | K27: =Mileage!CH27 -> 57
A28: FM-23500 | B28: Francis "Knuckles" Biondo | C28: VA 27-3 | D28: VA 27-9 | K28: =Mileage!CH28 -> 4104
A29: FM-23640 | B29: Michael "Yankee" Guyette | C29: VA 27-3 | D29: VA 27-4 | E29: WV 37-3 | F29: NC 15-1 | H29: DC 53-1 | I29: WV 37-3 | J29: MD 40 | K29: =Mileage!CH29 -> 10338 | L29: 43813 | M29: 44201 | N29: 44450 | AA29: 44030
A30: FM-23658 | B30: Lyde "Boogie" Andrews | C30: R2R 21 | D30: VA 27 State 21 | E30: SC 34-4 | F30: NC 15-4A | G30: R2R 21 | J30: MD 40-1 | K30: =Mileage!CH30 -> 8597 | L30: 43813 | M30: 44201 | N30: 44201 | AA30: 44037
A31: FM-24188 | B31: William "Hooker" Eagen | C31: VA 27-3 | D31: VA 27 State 21 | E31: R2R 21 | G31: R2R 21 | K31: =Mileage!CH31 -> 3980 | L31: 44076
A32: FM-24260 | B32: Elizabeth "Pika" Jones | C32: VA 27-3 | D32: VA 27-7 | E32: R2R 21 | K32: =Mileage!CH32 -> 3490 | L32: 44101 | M32: 44201
A33: FM-24282 | B33: Jason "Joker" Williams | K33: =Mileage!CH38 -> 108
A34: FM-24311 | B34: Irvin "Reaper" Brooks | C34: VA 27-3 | D34: VA 27-2 | E34: SC 34-1 | F34: NC 15-1 | G34: TN 18-2 | H34: DC 53-1 | I34: WV 37-4 | J34: MD 40-2 | K34: =Mileage!CH34 -> 34585 | L34: 43748 | M34: 44201 | N34: 44201 | O34: 44201 | P34: 44331 | Q34: 44373 | R34: 44408 | S34: 44450 | AA34: 43813 | AB34: 44030 | AC34: 44346 | AD34: 44394 | AE34: 44408
A35: FM-24670 | B35: Tavaris "Alpha" Jones | C35: VA 27-3 | D35: R2R 21 | G35: R2R 21 | K35: =Mileage!CH35 -> 1389
A36: FM-24701 | B36: Kenneth "Warhorse" Hammond | C36: VA 27-7 | K36: =Mileage!CH36 -> 859 | L36: 44076
A37: FM-24942 | B37: Michael "P.Y.T." Jackson | K37: =Mileage!CH37 -> 0
A38: FM-25238 | B38: Alexander "LOBO" Cruz | K38: =Mileage!CH38 -> 108
A39: FM-25330 | B39: Steven "Scooter" Scott | K39: =Mileage!CH39 -> 0
A40: FM-25439 | B40: Harold "Nobody" Ring | C40: VA 27-3 | D40: VA 27-7 | K40: =Mileage!CH40 -> 1399
...

Sheet Mileage
A1: 2022 | C1: Va CVMA® Sanctioned Events | L1: CVMA® Sanctioned Events | BY1: RWP Year Totals | CH1: Total Miles Logged
A2: Member Name | B2: Member Number | C2: 27-1 "Ride To Remember" | D2: 27-2 Bull Run III | E2: 27-4 Blue Ridge Thunder | F2: 27-7 2nd Annual Poker Run | G2: 27-8 Poker Run | H2: 27-9 1st Annual Poker Run | I2: 27-10 Poker Run Manassass VA | J2: 27-11 Poker Run 23 Apr 22 | K2: VA State Meeting | L2: 2022 CVMA® Nationals | M2: 2022 Region 2 Regionals | N2: 15 Jan 22 FL 20 15th Anniversery | O2: 22 Jan 22 MD 40-2 Frozen Chrome | P2: 12 Mar 22 SC 34-1 Spring Ride | Q2: 6 Mar 22 New Kent Winery Ride | R2: 5 Mar 22 Preices BBQ Ride | S2: 19 Mar 22 NC 15-1 Sanctioned Ride | T2: 26 Mar 22 GA 25-3 Shamrock Fest | U2: 9 Apr 22 GA 25-5 Poker Run | V2: 9 Apr 22 FL 20-7 K-9 Poker Run | W2: DE 50-1 Poker Run 30 Apr 22 (Sanctioned) | X2: Blue Awareness Poker Run 30 Apr 22 | Y2: 14 May 22 DC 53-1 Monumental Poker Run (Sanctioned) | Z2: 21 May 22 MD State Meeting (Sanctioned) | AA2: 28 May 22 Ride to the Wall (Sanctioned) | AB2: 6 June 22 Ride for Sierra | AC2: 18 June 22 VCON Poker Run | AD2: 25 June 22 Yorktown ride J12 | AE2: 8 Jul 22 PA22-10 Gettysburg Bike Week (Sanctioned) | AF2: 16 July 22 Tech for Troops | AG2: PA 22-1 Annual Ride (Sanctioned) | AH2: 23 July 22 VA 27-2 and WV 34-1 (Sanctioned Events) | AI2: 23 Jul 22 Region lll Rally Conway NH (Sanctioned) | AJ2: 30 July 22 Freedom Riders event | AK2: 6 Aug 22 Chapter Ride | AL2: 13 Aug 22 Chapter Picnic Ride | AM2: 13 Aug 22 Teacy Taliaferro Poker run | AN2: 13 Aug 22 NC 15-11 (Sanctioned) Ride | AO2: 14 Aug 22 Chapter breakfast Ride | AP2: 28 Aug 22 Chesterfirld Parade | AQ2: 2-4 Sept 22 KY 1-1 Sanctioned Ride | AR2: 18 Sep 22 Chapter Ride | BY2: 2014 RWP Mileage | BZ2: 2015 RWP Mileage | CA2: 2016 RWP Mileage | CB2: 2017 RWP Mileage | CC2: 2018 RWP Mileage | CD2: 2019 RWP Mileage | CE2: 2020 RWP Mileage | CF2: 2021 RWP Mileage | CG2: 2022 RWP Mileage
A3: =HYPERLINK("http://www.combatvet.org/members/showMember.asp?LID=9416","Scott ""Big Dawg"" Johnson") -> Scott "Big Dawg" Johnson | B3: FM-7830 | C3: 158 | F3: 250 | J3: 310 | L3: 1308 | R3: 100 | X3: 130 | Y3: 280 | AA3: 1025 | AB3: 118 | AC3: 135 | AJ3: 104 | AK3: 176 | CB3: 26 | CC3: 713 | CD3: 1014 | CE3: 2322 | CF3: 1732 | CG3: =SUM(C3:BX3) -> 4094 | CH3: =SUM(BY3:CG3) -> 9901
A4: =HYPERLINK("http://www.combatvet.org/members/showMember.asp?LID=10224","jeffrey ""Stretch"" Scott") -> jeffrey "Stretch" Scott | B4: FM-8480 | BY4: 4193 | BZ4: 3674 | CA4: 141 | CB4: 72 | CC4: 484 | CD4: 0 | CE4: 0 | CF4: 0 | CG4: =SUM(C4:BX4) -> 0 | CH4: =SUM(BY4:CG4) -> 8564
A5: DALE "Peacemaker" FATER | B5: FM-8662 | I5: 252 | L5: 1425 | AA5: 300 | BY5: 3046 | BZ5: 8469 | CA5: 4370 | CB5: 5024 | CC5: 2887 | CD5: 2578 | CE5: 1212 | CF5: 155 | CG5: =SUM(C5:BX5) -> 1977 | CH5: =SUM(BY5:CG5) -> 29718
A6: Robert "Ruffneck" Premo | B6: FM-10570 | K6: 257 | CG6: =SUM(C6:BX6) -> 257 | CH6: =SUM(BY6:CG6) -> 257
A7: Chris "Backfire" Witte | B7: FM-11242 | CC7: 570 | CD7: 501 | CE7: 38 | CF7: 0 | CG7: =SUM(C7:BX7) -> 0 | CH7: =SUM(BY7:CG7) -> 1109
A8: Marshall "Doc" Hartless | B8: FM-11393 | I8: 252 | L8: 1453 | R8: 100 | BY8: 1566 | BZ8: 8738 | CA8: 852 | CB8: 4231 | CC8: 0 | CD8: 0 | CE8: 0 | CF8: 0 | CG8: =SUM(C8:BX8) -> 1805 | CH8: =SUM(BY8:CG8) -> 17192
A9: =HYPERLINK("http://www.combatvet.org/members/showMember.asp?LID=14498","Michael ""Half Trac"" Headrick") -> Michael "Half Trac" Headrick | B9: FM-11848 | AB9: 118 | BY9: 1975 | BZ9: 326 | CA9: 585 | CB9: 1674 | CC9: 1214 | CD9: 1480 | CE9: 404 | CF9: 277 | CG9: =SUM(C9:BX9) -> 118 | CH9: =SUM(BY9:CG9) -> 8053
A10: Robert "Grom" Moore | B10: FM-13429 | C10: 200 | E10: 365 | F10: 281 | I10: 252 | J10: 234 | K10: 245 | L10: 1235 | R10: 125 | AB10: 118 | AC10: 135 | AJ10: 104 | AK10: 218 | AM10: 89 | CC10: 3302 | CD10: 2661 | CE10: 4556 | CF10: 2806 | CG10: =SUM(C10:BX10) -> 3601 | CH10: =SUM(BY10:CG10) -> 16926
A11: Robert "Rallysport" Sloan | B11: FM-13625 | R11: 182 | AB11: 118 | CE11: 3032 | CF11: 2062 | CG11: =SUM(C11:BX11) -> 300 | CH11: =SUM(BY11:CG11) -> 5394
A12: Cameron "Rainman" Harbison | B12: FM-13854 | C12: 199 | F12: 281 | I12: 277 | J12: 310 | K12: 245 | L12: 1640 | N12: 1680 | O12: 505 | Q12: 107 | R12: 125 | T12: 1128 | U12: 1437 | V12: 250 | W12: 526 | Y12: 282 | Z12: 375 | AA12: 310 | AB12: 118 | AC12: 135 | AE12: 451 | AG12: 707 | AI12: 1487 | AR12: 176 | BZ12: 0 | CA12: 677 | CB12: 2829 | CC12: 15955 | CD12: 7643 | CE12: 11484 | CF12: 27256 | CG12: =SUM(C12:BX12) -> 12751 | CH12: =SUM(BY12:CG12) -> 78595
A13: Joseph "Doclock" Lockerby | B13: FM-14552 | F13: 249 | J13: 310 | L13: 1245 | R13: 138 | X13: 108 | AC13: 135 | AF13: 115 | CC13: 3967 | CD13: 3314 | CE13: 2794 | CF13: 1386 | CG13: =SUM(C13:BX13) -> 2300 | CH13: =SUM(BY13:CG13) -> 13761
A14: Tim "Cajun" Rivet | B14: FM-15813 | I14: 261 | J14: 310 | R14: 125 | X14: 102 | AC14: 135 | CC14: 1269 | CD14: 2731 | CE14: 1418 | CF14: 1324 | CG14: =SUM(C14:BX14) -> 933 | CH14: =SUM(BY14:CG14) -> 7675
A15: Greg "Bandit" Courtney | B15: FM-16569 | C15: 190 | I15: 295 | Q15: 85 | AB15: 118 | AC15: 135 | AD15: 185 | AO15: 125 | CC15: 2002 | CD15: 4542 | CE15: 2062 | CF15: 1818 | CG15: =SUM(C15:BX15) -> 1133 | CH15: =SUM(BY15:CG15) -> 11557
A16: Fransisco "Bori" Santana | B16: FM-16738 | CB16: 0 | CC16: 0 | CD16: 75 | CE16: 0 | CF16: 0 | CG16: =SUM(C16:BX16) -> 0 | CH16: =SUM(BY16:CG16) -> 75
A17: Joey "MAX" Klingman | B17: FM-1823 | CG17: =SUM(C17:BX17) -> 0 | CH17: =SUM(BY17:CG17) -> 0
A18: Robert "Striker" Bryson | B18: FM-18730 | CC18: 406 | CD18: 0 | CE18: 0 | CF18: 0 | CG18: =SUM(C18:BX18) -> 0 | CH18: =SUM(BY18:CG18) -> 406
A19: Kenneth "Doc" King | B19: FM-19162 | I19: 287 | L19: 1269 | Q19: 102 | R19: 135 | CB19: 2465 | CC19: 5131 | CD19: 10622 | CE19: 5114 | CF19: 2779 | CG19: =SUM(C19:BX19) -> 1793 | CH19: =SUM(BY19:CG19) -> 27904
A20: Sylbert (Bret) "J12" Jackson-Smith | B20: FM-19667 | F20: 250 | I20: 295 | J20: 350 | X20: 115 | AB20: 118 | AC20: 135 | AD20: 172 | AF20: 143 | AH20: 314 | AJ20: 104 | AK20: 205 | AL20: 204 | AO20: 125 | CC20: 646 | CD20: 304 | CE20: 225 | CF20: 122 | CG20: =SUM(C20:BX20) -> 2530 | CH20: =SUM(BY20:CG20) -> 3827
A21: Vincent "Streamer" Eberhart | B21: FM-19776 | J21: 250 | L21: 1235 | CC21: 1264 | CD21: 1711 | CE21: 920 | CF21: 0 | CG21: =SUM(C21:BX21) -> 1485 | CH21: =SUM(BY21:CG21) -> 5380
A22: Aaron "Natural Boy" Davis | B22: FM-20313 | CG22: =SUM(C22:BX22) -> 0 | CH22: =SUM(BY22:CG22) -> 0
A23: Ryan "BDT" Landers | B23: FM-20643 | CC23: 0 | CD23: 511 | CE23: 40 | CF23: 131 | CG23: =SUM(C23:BX23) -> 0 | CH23: =SUM(BY23:CG23) -> 682
A24: William "Freeze" Skala | B24: FM-21290 | CC24: 0 | CD24: 501 | CE24: 1686 | CF24: 1709 | CG24: =SUM(C24:BX24) -> 0 | CH24: =SUM(BY24:CG24) -> 3896
A25: Matthew "Warrior Chief" Anderson | B25: FM-22230 | C25: 190 | E25: 382 | F25: 249 | J25: 340 | L25: 1389 | S25: 435 | X25: 105 | Y25: 275 | AA25: 277 | AB25: 118 | AE25: 445 | AH25: 480 | AN25: 312 | AQ25: 1060 | CD25: 4977 | CE25: 9030 | CF25: 16047 | CG25: =SUM(C25:BX25) -> 6057 | CH25: =SUM(BY25:CG25) -> 36111
A26: Carol "Psycho" Landers | B26: FM-22595 | CD26: 456 | CE26: 40 | CF26: 0 | CG26: =SUM(C26:BX26) -> 0 | CH26: =SUM(BY26:CG26) -> 496
A27: Shirley "Cougar" Anders | B27: FM-22999 | CD27: 57 | CE27: 0 | CF27: 0 | CG27: =SUM(C27:BX27) -> 0 | CH27: =SUM(BY27:CG27) -> 57
A28: Francis "Knuckles" Biondo | B28: FM-23500 | J28: 340 | R28: 121 | X28: 105 | AA28: 283 | AB28: 118 | AC28: 135 | AE28: 419 | CD28: 277 | CE28: 471 | CF28: 1835 | CG28: =SUM(C28:BX28) -> 1521 | CH28: =SUM(BY28:CG28) -> 4104
A29: Michael "Yankee" Guyette | B29: FM-23640 | C29: 199 | F29: 219 | J29: 340 | K29: 195 | L29: 1245 | S29: 450 | Y29: 250 | Z29: 357 | AA29: 275 | AC29: 135 | AF29: 143 | AH29: 433 | AJ29: 104 | AK29: 191 | AL29: 204 | AO29: 125 | AR29: 176 | CD29: 94 | CE29: 1608 | CF29: 3595 | CG29: =SUM(C29:BX29) -> 5041 | CH29: =SUM(BY29:CG29) -> 10338
A30: Lyde "Boogie" Andrews | B30: FM-23658 | I30: 300 | L30: 1134 | R30: 150 | CD30: 843 | CE30: 3502 | CF30: 2668 | CG30: =SUM(C30:BX30) -> 1584 | CH30: =SUM(BY30:CG30) -> 8597
A31: William "Hooker" Eagen | B31: FM-24188 | L31: 1235 | AJ31: 104 | AK31: 191 | CE31: 828 | CF31: 1622 | CG31: =SUM(C31:BX31) -> 1530 | CH31: =SUM(BY31:CG31) -> 3980
A32: Elizabeth "Pika" Jones | B32: FM-24260 | CE32: 2255 | CF32: 1235 | CG32: =SUM(C32:BX32) -> 0 | CH32: =SUM(BY32:CG32) -> 3490
A33: Jason "Joker" Williams | B33: FM-24282 | CG33: =SUM(C33:BX33) -> 0 | CH33: =SUM(BY33:CG33) -> 0
A34: Irvin "Reaper" Brooks | B34: FM-24311 | C34: 170 | E34: 365 | F34: 281 | K34: 245 | L34: 1485 | O34: 505 | P34: 805 | S34: 432 | W34: 526 | Y34: 284 | Z34: 387 | AA34: 315 | AB34: 118 | AE34: 455 | AH34: 496 | AK34: 218 | AN34: 273 | AR34: 176 | CC34: 364 | CD34: 1796 | CE34: 7470 | CF34: 17419 | CG34: =SUM(C34:BX34) -> 7536 | CH34: =SUM(BY34:CG34) -> 34585
A35: Tavaris "Alpha" Jones | B35: FM-24670 | CE35: 510 | CF35: 879 | CG35: =SUM(C35:BX35) -> 0 | CH35: =SUM(BY35:CG35) -> 1389
A36: Kenneth "WarHorse" Hammond | B36: FM-24701 | CE36: 655 | CF36: 204 | CG36: =SUM(C36:BX36) -> 0 | CH36: =SUM(BY36:CG36) -> 859
A37: Michael "P.Y.T." Jackson | B37: FM-24942 | CG37: =SUM(C37:BX37) -> 0 | CH37: =SUM(BY37:CG37) -> 0
A38: Alexander "LOBO" Cruz | B38: FM-25238 | X38: 108 | CG38: =SUM(C38:BX38) -> 108 | CH38: =SUM(BY38:CG38) -> 108
A39: Steven "Scooter" Scott | B39: FM-25330 | CG39: =SUM(C39:BX39) -> 0 | CH39: =SUM(BY39:CG39) -> 0
A40: Harold "Nobody" Ring | B40: FM-25439 | F40: 180 | AB40: 118 | AC40: 135 | CE40: 118 | CF40: 848 | CG40: =SUM(C40:BX40) -> 433 | CH40: =SUM(BY40:CG40) -> 1399
...

Sheet RC Activity
A1: Road Captain | B1: TG/Sweep | C1: Event Name | D1: Date | E1: Number of Riders (Bikes) | F1: Total Mileage | G1: Incedent Free | H1: Incident
A2: Rainman | B2: Rainman | C2: FL 20 15th Anniversery Gathering | D2: 44576 | E2: 1 | F2: 1680 | G2: Y
A3: Rainman | B3: Reaper | C3: MD 40-2 Frozen Chrome | D3: 44583 | E3: 1 | F3: 2015 | G3: Y
A4: Rainman | B4: Doc (King) | C4: New Kent Winery | D4: 44626 | E4: 4 | F4: 294 | G4: Y
A5: Rainman | B5: Doc (King) | C5: Prieces BBQ | D5: 44625 | E5: 11 | F5: 1832 | G5: Y
A6: Rainman | B6: GROM | C6: VA 27-10 Sanctioned Ride | D6: 44639 | E6: 10 | F6: 2723 | G6: Y
A7: Warrior Chief | B7: Reaper | C7: NC 15-1 Sanctioned Ride | D7: 44639 | E7: 4 | F7: 2516 | G7: Y
A8: Rainman | B8: Rainman | C8: GA 25-5 Poker Run | D8: 44660 | E8: 1 | F8: 1437 | G8: Y
A9: Rainman | B9: Rainman | C9: FL 20-7 K-9 Poker Run | D9: 44660 | E9: 1 | F9: 250 | G9: Y
A10: Rainman | B10: Grom | C10: VA 27-7 Sanctioned Ride | D10: 44667 | E10: 14 | F10: 3668 | G10: Y
A11: Rainman | B11: Warrior Chief | C11: VA 27-11 Sanctioned Ride | D11: 44674 | E11: 14 | F11: 6036 | G11: Y
A12: Hooker | B12: Warrior Chief | C12: Blue Awareness Poker Run | D12: 44681 | E12: 12 | F12: 1232 | G12: Y
A13: Rainman | B13: Reaper | C13: DE 50-1 Poker Run | D13: 44681 | E13: 4 | F13: 1578 | G13: Y
... A20: J12 | B20: Bandit | C20: Yorktown Run | D20: 44737 | E20: 5 | F20: 928 | G20: Y
A21: Warrior Chief | B21: Reaper | C21: 2022 Nationals | D21: 22-26 Jun 22 | E21: 3 | F21: 5716 | G21: Y
A22: Rainman | B22: Grom | C22: 2022 Nationals | D22: 2-26 Jun 22 | E22: 10 | F22: 26380 | G22: Y
A23: J12 | B23: Yankee | C23: Tech for Troops | D23: 44758 | E23: 8 | F23: 784 | G23: Y
A24: Rainman | B24: Rainman | C24: PA 22-1 | D24: 44758 | E24: 1 | F24: 707 | G24: Y
A25: J12 | B25: Reaper | C25: Chapter Ride | D25: 44779 | E25: 6 | F25: 2375 | G25: Y
A26: Yankee | B26: J12 | C26: Chapter Ride | D26: 44786 | E26: 6 | F26: 1224 | G26: Y
A27: Warrior Chief | B27: Reaper | C27: NC 15-11 Sanctioned Ride | D27: 44786 | E27: 3 | F27: 1312 | G27: Y
A28: J12 | B28: Bandit | C28: Chapter Breakfast Ride | D28: 44787 | E28: 4 | F28: 750 | G28: Y
A29: Warrior Chief | B29: Reaper | C29: VA 27-4 Sanctioned Ride | D29: 44793 | E29: 4 | F29: 1505 | G29: Y
A30: Warrior Chief | B30: Warrior Chief | C30: KY 1-1 Sanctioned Ride | D30: 2-4 Sep 22 | E30: 1 | F30: 1060 | G30: Y
A31: Yankee | B31: J12 | C31: Chapter Ride | D31: 44821 | E31: 6 | F31: 1232 | G31: Y
A32: Rainman | B32: Reaper | C32: VA Sate Meeting | D32: 44830 | E32: 12 | F32: 2949 | G32: Y
